BEGIN:VCALENDAR
VERSION:2.0
PRODID:-//Motor Trade - ECPv6.15.11//NONSGML v1.0//EN
CALSCALE:GREGORIAN
METHOD:PUBLISH
X-ORIGINAL-URL:https://www.motortrade.co.uk
X-WR-CALDESC:Events for Motor Trade
REFRESH-INTERVAL;VALUE=DURATION:PT1H
X-Robots-Tag:noindex
X-PUBLISHED-TTL:PT1H
BEGIN:VTIMEZONE
TZID:Europe/London
BEGIN:DAYLIGHT
TZOFFSETFROM:+0000
TZOFFSETTO:+0100
TZNAME:BST
DTSTART:20240331T010000
END:DAYLIGHT
BEGIN:STANDARD
TZOFFSETFROM:+0100
TZOFFSETTO:+0000
TZNAME:GMT
DTSTART:20241027T010000
END:STANDARD
BEGIN:DAYLIGHT
TZOFFSETFROM:+0000
TZOFFSETTO:+0100
TZNAME:BST
DTSTART:20250330T010000
END:DAYLIGHT
BEGIN:STANDARD
TZOFFSETFROM:+0100
TZOFFSETTO:+0000
TZNAME:GMT
DTSTART:20251026T010000
END:STANDARD
BEGIN:DAYLIGHT
TZOFFSETFROM:+0000
TZOFFSETTO:+0100
TZNAME:BST
DTSTART:20260329T010000
END:DAYLIGHT
BEGIN:STANDARD
TZOFFSETFROM:+0100
TZOFFSETTO:+0000
TZNAME:GMT
DTSTART:20261025T010000
END:STANDARD
END:VTIMEZONE
BEGIN:VEVENT
DTSTART;TZID=Europe/London:20250704T110000
DTEND;TZID=Europe/London:20250706T170000
DTSTAMP:20260420T000857
CREATED:20250612T062348Z
LAST-MODIFIED:20250613T104639Z
UID:544-1751626800-1751821200@www.motortrade.co.uk
SUMMARY:Formula 1 British Grand Prix
DESCRIPTION:The highlight of the British motorsport season\, the British Grand Prix returns to Silverstone for three days of Formula 1 action\, support races and spectacular off-track entertainment. With practice sessions on Friday\, qualifying on Saturday and the Grand Prix on Sunday\, it’s a bucket-list event for any petrolhead. \n\n\n\nWeekend FormatEnjoy a packed three-day schedule: \n\n\n\n\nFriday 4 July: FP1 (11:30–12:30)\, FP2 (15:00–16:00)\n\n\n\nSaturday 5 July: FP3 (10:30–11:30)\, Qualifying (14:00–15:00)\n\n\n\nSunday 6 July: Race (15:00\, 52 laps)Support races include Porsche Supercup\, Formula 2 & 3\, adding to the excitement\n\n\n\n\nTickets\, Hospitality & ExtrasSilverstone offers a variety of ticket tiers—from general admission (£50–£279 for single-day entry) to grandstands like Becketts\, Stowe\, Vale\, and Copse \n\n\n\nOfficial hospitality packages include Pit Lane walks\, grid access\, paddock tours\, concert stages with headline acts\, glamping\, and pop-up hotels. \n\n\n\nAfter a sell-out in 2024\, Silverstone increased lower-price general admission tickets for 2025 and limited dynamic pricing in response to fan feedback.
URL:https://www.motortrade.co.uk/event/formula-1-british-grand-prix/
LOCATION:Silverstone Circuit\, Towcester\, Northamptonshire\, NN12 8TN\, United Kingdom
CATEGORIES:Race Events
ATTACH;FMTTYPE=image/webp:https://www.motortrade.co.uk/wp-content/uploads/2025/06/f1-grand-prix.webp
END:VEVENT
BEGIN:VEVENT
DTSTART;TZID=Europe/London:20250705T090000
DTEND;TZID=Europe/London:20250706T170000
DTSTAMP:20260420T000857
CREATED:20250621T112457Z
LAST-MODIFIED:20250621T112458Z
UID:662-1751706000-1751821200@www.motortrade.co.uk
SUMMARY:Great Yorkshire Traction Rally
DESCRIPTION:The Great Yorkshire Traction Engine Club’s Duncombe Park Steam Rally will once again take place in the beautiful surroundings of Duncombe Park\, Helmsley. There will be more than 40 full-size steamers\, 40 miniatures\, more than 60 commercial vehicles\, 120 tractors and stationary engines\, and 170 vintage cars and motorcycles at the event.  \n\n\n\nThere are also several organs\, models\, a working area\, crafts\, trade stands\, refreshments\, a licensed bar with evening entertainment\, Can-Can dancers and a fair ground. We also have a lot of room for caravans and camping. \n\n\n\nWeekend camping is a popular choice for many. With much to see and do\, evening entertainment and the market town of Helmsley a just short walk away\, stopping on site allows ample time to soak up the atmosphere of the rally. The sights\, sounds and smell of the traction engine rally makes for a great weekend.
URL:https://www.motortrade.co.uk/event/great-yorkshire-traction-rally/
LOCATION:Duncombe Park\, Helmsley\, Yorkshire\, YO62 5EB
END:VEVENT
END:VCALENDAR