BEGIN:VCALENDAR
VERSION:2.0
PRODID:-//Motor Trade - ECPv6.15.11//NONSGML v1.0//EN
CALSCALE:GREGORIAN
METHOD:PUBLISH
X-WR-CALNAME:Motor Trade
X-ORIGINAL-URL:https://www.motortrade.co.uk
X-WR-CALDESC:Events for Motor Trade
REFRESH-INTERVAL;VALUE=DURATION:PT1H
X-Robots-Tag:noindex
X-PUBLISHED-TTL:PT1H
BEGIN:VTIMEZONE
TZID:Europe/London
BEGIN:DAYLIGHT
TZOFFSETFROM:+0000
TZOFFSETTO:+0100
TZNAME:BST
DTSTART:20240331T010000
END:DAYLIGHT
BEGIN:STANDARD
TZOFFSETFROM:+0100
TZOFFSETTO:+0000
TZNAME:GMT
DTSTART:20241027T010000
END:STANDARD
BEGIN:DAYLIGHT
TZOFFSETFROM:+0000
TZOFFSETTO:+0100
TZNAME:BST
DTSTART:20250330T010000
END:DAYLIGHT
BEGIN:STANDARD
TZOFFSETFROM:+0100
TZOFFSETTO:+0000
TZNAME:GMT
DTSTART:20251026T010000
END:STANDARD
BEGIN:DAYLIGHT
TZOFFSETFROM:+0000
TZOFFSETTO:+0100
TZNAME:BST
DTSTART:20260329T010000
END:DAYLIGHT
BEGIN:STANDARD
TZOFFSETFROM:+0100
TZOFFSETTO:+0000
TZNAME:GMT
DTSTART:20261025T010000
END:STANDARD
END:VTIMEZONE
BEGIN:VEVENT
DTSTART;TZID=Europe/London:20250710T080000
DTEND;TZID=Europe/London:20250713T170000
DTSTAMP:20260420T000426
CREATED:20250612T064704Z
LAST-MODIFIED:20250613T104634Z
UID:554-1752134400-1752426000@www.motortrade.co.uk
SUMMARY:Goodwood Festival of Speed
DESCRIPTION:Taking place from July 10th to the 13th\, 2025\, at Goodwood House in West Sussex\, the Goodwood Festival of Speed is shaping up to be an unparalleled four-day tribute to the most legendary figures and vehicles in motorsport.As we celebrate 125 years of racing legacy and the 75th anniversary of the Formula 1 World Championship\, this year’s theme\, “The Winning Formula – Champions and Challengers\,” is fitting. \n\n\n\nAstonishing Formula One participation is on the horizon: the Hill will play host to the biggest rally in F1 ever\, with everything from vintage cars like the MP4/4\, FW14B\, and Lotus 79 to more recent entries from Haas like the VF-16 to VF-24. \n\n\n\nThe Hill Climb will be driven by seven Formula One World Champions: Alain Prost\, Mika Häkkinen\, Jackie Stewart\, Nigel Mansell\, Mario Andretti\, Emerson Fittipaldi\, Jacques Villeneuve\, and Mika Prost. \n\n\n\nModern supercars in the Supercar Paddock sit alongside vintage treasures\, and the weekend exhibits a variety of motorsport disciplines beyond Formula One\, including WRC\, IndyCar\, MotoGP\, NASCAR\, and the World Endurance Championship. Notable events encompass hill-climb shootouts\, the Forest Rally Stage\, drifting and stunt performances in the Arena\, the futuristic Future Lab\, and the esteemed Cartier Style et Luxe concours. \n\n\n\nGeneral admission\, roving grandstand access\, and VIP hospitality options are available\, allowing attendees to gain a unique view of the action. VIP packages also provide extras like paddock tours\, gourmet cuisine\, and even helicopter adventures. You can’t miss Goodwood 2025 whether you’re a fan of speed\, history\, or automotive innovation; it combines living motorsport history with stunning scenery and engaging attractions.
URL:https://www.motortrade.co.uk/event/goodwood-festival-of-speed/
LOCATION:Goodwood House\, Chichester\, PO18 0PX
CATEGORIES:Classic Cars,Race Events,Sports Cars
ATTACH;FMTTYPE=image/jpeg:https://www.motortrade.co.uk/wp-content/uploads/2025/06/festival-of-speed-logo.jpg
END:VEVENT
END:VCALENDAR