BEGIN:VCALENDAR
VERSION:2.0
PRODID:-//Motor Trade - ECPv6.15.11//NONSGML v1.0//EN
CALSCALE:GREGORIAN
METHOD:PUBLISH
X-ORIGINAL-URL:https://www.motortrade.co.uk
X-WR-CALDESC:Events for Motor Trade
REFRESH-INTERVAL;VALUE=DURATION:PT1H
X-Robots-Tag:noindex
X-PUBLISHED-TTL:PT1H
BEGIN:VTIMEZONE
TZID:Europe/London
BEGIN:DAYLIGHT
TZOFFSETFROM:+0000
TZOFFSETTO:+0100
TZNAME:BST
DTSTART:20240331T010000
END:DAYLIGHT
BEGIN:STANDARD
TZOFFSETFROM:+0100
TZOFFSETTO:+0000
TZNAME:GMT
DTSTART:20241027T010000
END:STANDARD
BEGIN:DAYLIGHT
TZOFFSETFROM:+0000
TZOFFSETTO:+0100
TZNAME:BST
DTSTART:20250330T010000
END:DAYLIGHT
BEGIN:STANDARD
TZOFFSETFROM:+0100
TZOFFSETTO:+0000
TZNAME:GMT
DTSTART:20251026T010000
END:STANDARD
BEGIN:DAYLIGHT
TZOFFSETFROM:+0000
TZOFFSETTO:+0100
TZNAME:BST
DTSTART:20260329T010000
END:DAYLIGHT
BEGIN:STANDARD
TZOFFSETFROM:+0100
TZOFFSETTO:+0000
TZNAME:GMT
DTSTART:20261025T010000
END:STANDARD
END:VTIMEZONE
BEGIN:VEVENT
DTSTART;TZID=Europe/London:20250801T100000
DTEND;TZID=Europe/London:20250803T170000
DTSTAMP:20260415T143626
CREATED:20250613T103906Z
LAST-MODIFIED:20250613T104434Z
UID:592-1754042400-1754240400@www.motortrade.co.uk
SUMMARY:Gloucestershire Steam and Vintage Extravaganza
DESCRIPTION:From August 1-3\, 2025\, the Gloucestershire Vintage & Country Extravaganza will be back to South Cerney Airfield\, close to Cirencester. One of the most prominent and prestigious steam\, vintage\, and countryside events in the UK is celebrating its half-century anniversary this year. To top it all off\, in their quest to offer one of the most budget-friendly family outings in Gloucestershire\, the organisers have once again frozen entrance fees. There will be more than simply classic cars at this event. The Animal and Countryside Arena is home to the annual charity dog show\, as well as other attractions like rare breeds\, falconry demonstrations\, and a vintage entertainment tent where you can enjoy live music\, dance classes\, and fashion exhibitions from yesteryear. An incredible day out for the entire family awaits at this event\, which boasts a myriad of trade stands\, crafts tents\, a model village\, food and drink stalls (including the We’ll Meet Again Tea Room)\, and free vintage bus rides. \n\n\n\nTicket sales are handled by a third party\, https://www.ticketsrv.co.uk/. Please contact them directly for any ticket-related queries using one of the following links:   FAQ/help page | Ticket resend link  | Enquiries Form
URL:https://www.motortrade.co.uk/event/gloucestershire-steam-and-vintage-extravaganza/
LOCATION:South Cerney Airfleid\, Northmoor Lane\, Gloucestershire\, GL7 5QD
CATEGORIES:Classic Cars
END:VEVENT
BEGIN:VEVENT
DTSTART;TZID=Europe/London:20250801T123000
DTEND;TZID=Europe/London:20250803T180000
DTSTAMP:20260415T143626
CREATED:20250716T093736Z
LAST-MODIFIED:20250716T093737Z
UID:976-1754051400-1754244000@www.motortrade.co.uk
SUMMARY:Hungarian Grand Prix
DESCRIPTION:The 2025 Hungarian Grand Prix returns to the tight\, twisty Hungaroring from 1–3 August\, round 14 of the championship.This 4.381 km circuit demands high downforce—akin to Monaco—making qualifying performance crucial due to notoriously tricky overtaking. Hot mid‑summer conditions in Hungary often generate tyre degradation and even surprise thunderstorms\, adding strategic complexity . Pirelli brings the soft C3\, medium C4\, and hard C5 compounds—teams will juggle these to balance pace and longevity.  \n\n\n\nThe natural‑bowl layout offers excellent spectator views\, and off‑track\, Budapest’s vibrant city and nearby Aquarena water‑park provide appealing distractions. \n\n\n\nKey storylines include whether Red Bull maintains dominance on compound‑sapping tracks\, how Ferrari and Mercedes adapt aero packages here\, and Alpine’s Ocon hoping to repeat his 2021 surprise win. With qualifying likely to decide the podium\, expect tight margins\, fierce strategy calls\, and the usual Hungarian heat to test both machines and drivers. \n\n\n\nThe circuit is only 20km from Budapest\, putting you close to one of Europe’s most fascinating\, storied and lively city centres.
URL:https://www.motortrade.co.uk/event/hungarian-grand-prix-2/
LOCATION:Hungaroring\, Mogyoród\, Hungary
ATTACH;FMTTYPE=image/webp:https://www.motortrade.co.uk/wp-content/uploads/2025/06/f1-grand-prix.webp
END:VEVENT
BEGIN:VEVENT
DTSTART;TZID=Europe/London:20250802T090000
DTEND;TZID=Europe/London:20250803T170000
DTSTAMP:20260415T143626
CREATED:20250704T143715Z
LAST-MODIFIED:20250714T183247Z
UID:874-1754125200-1754240400@www.motortrade.co.uk
SUMMARY:Supercar Weekend
DESCRIPTION:This must-see family spectacular brings some of the world’s most exclusive and desirable motors to Beaulieu. \n\n\n\nBeaulieu’s Supercar Weekend returns on Saturday 2 & Sunday 3 August 2025\, 10 am–5 pm\, offering a high-octane family spectacle on the lawns and avenues of this historic estate. Attendees will enjoy three daily Demonstration Runs (11:30 am\, 1 pm\, 3 pm) along Chestnut Avenue\, and the roaring Sound-Off at 4 pm\, where engines compete for the crowd’s applause. \n\n\n\nOn display will be an extraordinary Prestige & Hypercar lineup\, including Koenigsegg Regera\, Pagani Huayra\, Lotus Evija\, and the legendary Porsche “Holy Trinity” (918\, 959\, Carrera GT). Other standouts include Ferrari F40/F50/Enzo/LaFerrari\, Jaguar C‑X75\, Lotus F1 49\, Lamborghini Miura\, Porsche GT40 replicas and more. \n\n\n\nInteractive attractions include an F1 simulator hosted by rising star Kimi Antonelli\, Mini ROVER off-road rides for kids (£10 per child)\, and dolphin-aerial helicopter flights for a bird’s-eye view—bookable onsite. Plus\, the Sporting Bears charity will raffle supercar passengers\, while Brookspeed returns with a thrilling arena display. \n\n\n\nTickets (early bird until 25 July) include full access to Beaulieu’s attractions: National Motor Museum\, Palace House\, Abbey\, monorail\, and play areas. With luxury performance\, family fun\, and heritage charm\, Supercar Weekend models an unforgettable automotive extravaganza.
URL:https://www.motortrade.co.uk/event/supercar-weekend/
LOCATION:National Motor Museum\, Beaulieu\, New Forest\,\, Hampshire\, SO42 7ZN
ATTACH;FMTTYPE=image/jpeg:https://www.motortrade.co.uk/wp-content/uploads/2025/07/automobile-5330343_640.jpg
END:VEVENT
BEGIN:VEVENT
DTSTART;TZID=Europe/London:20250802T093000
DTEND;TZID=Europe/London:20250803T180000
DTSTAMP:20260415T143626
CREATED:20250613T104332Z
LAST-MODIFIED:20250613T104332Z
UID:597-1754127000-1754244000@www.motortrade.co.uk
SUMMARY:RREC North of England Rally
DESCRIPTION:The Rolls Royce Rally brings together some of the UK’s most prized motor cars and their proud owners. 2025 marks the 43rd year that the rally has been at Harewood. Why not take some time out and enjoy a picnic on the North Lawn with the iconic House as your backdrop or treat yourself to an Afternoon Tea in the Terrace cafe and join us for a family day out of all things quintessentially English! Set on the lawns in front of Harewood Hall north of Leeds\, this is one of the most relaxing and enjoyable of the Rolls-Royce and Bentley shows. Personally recommended!
URL:https://www.motortrade.co.uk/event/rrec-north-of-england-rally/
LOCATION:Harewood House\, Harewood\, Leeds\, LS17 9LG
END:VEVENT
BEGIN:VEVENT
DTSTART;TZID=Europe/London:20250802T100000
DTEND;TZID=Europe/London:20250803T170000
DTSTAMP:20260415T143626
CREATED:20250704T144304Z
LAST-MODIFIED:20250704T144420Z
UID:875-1754128800-1754240400@www.motortrade.co.uk
SUMMARY:Festival of Wheels Suffolk
DESCRIPTION:JOIN US AT FESTIVAL OF WHEELS!  \n\n\n\nThe Festival of Wheels 2025 returns to Trinity Park\, Ipswich on 2–3 August\, from 10 am to 5 pm each day It’s a high‑octane family extravaganza featuring live stunt performances\, monster‑truck rides (including “drive it yourself” experiences)\, the famous Wall of Death\, and Big‑Top circus shows. With thousands of custom and classic vehicles on display—including trucks\, bikes and movie cars like Bumblebee—enthusiasts can also register their own rides for free entry and trophy challenges. \n\n\n\nKids are well catered for: there’s an inflatable village\, dinosaur arena\, pony rides\, remote‑control zone and free land‑train tours. A vibrant shopping village\, global street‑food stalls\, live music\, and street performers complete the daytime fun. For those wanting more\, weekend camping includes on‑site amenities\, evening entertainment (comedy\, bars\, funfair) and exclusive access from Friday afternoon. \n\n\n\nSet across 350 acres\, this festival blends motorsport thrills with family‑friendly charm. \n\n\n\nGet ready for an exhilarating experience at the Festival of Wheels 2025 with Sporting Bears Dream Rides\, where you can jump into the passenger seat of iconic cars like the Lamborghini Gallardo or Aston Martin DBX for a thrilling ride!
URL:https://www.motortrade.co.uk/event/festival-of-wheels-suffolk-2/
LOCATION:Trinity Park\, Ipswich\, Suffolk\, IP3 8UH
ATTACH;FMTTYPE=image/jpeg:https://www.motortrade.co.uk/wp-content/uploads/2025/07/Festival-Of-Wheels-2025.jpg
END:VEVENT
BEGIN:VEVENT
DTSTART;TZID=Europe/London:20250802T100000
DTEND;TZID=Europe/London:20250803T170000
DTSTAMP:20260415T143626
CREATED:20250704T144823Z
LAST-MODIFIED:20250714T183131Z
UID:877-1754128800-1754240400@www.motortrade.co.uk
SUMMARY:West Somerset Railway Steam Fayre & Vintage Rally
DESCRIPTION:The West Somerset Railway Steam Fayre & Vintage Rally 2025 runs on 2–3 August at the WSRA Rally Fields in Norton Fitzwarren\, Taunton (10 am–5 pm daily). Organised by volunteers from the West Somerset Railway Association\, it’s a vibrant celebration of steam-age heritage and vintage transport\, with proceeds supporting the historic railway. \n\n\n\nSpanning 33 acres\, the rally features working traction engines\, tractors\, stationary engines\, road rollers\, alongside classic cars\, motorbikes\, fire engines\, buses\, and military and commercial vehicles. Highlights include arena parades\, live steam and tractor demonstrations\, and charming brake van rides on the Barnstaple line. \n\n\n\nFamilies are well catered for with a children’s fun area\, model train rides\, and local artisan food\, ale\, cider\, and crafts in refreshment and trade marquees. Visitors can arrive via a free shuttle train from Bishop’s Lydeard or bus from Silk Mills Park & Ride — and well-behaved dogs on leads are welcome. \n\n\n\nThis atmospheric weekend is perfect for steam enthusiasts\, families\, and heritage-lovers alike—offering a nostalgic journey into Britain’s industrial and transport past in a delightful\, community-driven setting.
URL:https://www.motortrade.co.uk/event/west-somerset-railway-steam-fayre-vintage-rally/
ATTACH;FMTTYPE=image/jpeg:https://www.motortrade.co.uk/wp-content/uploads/2025/07/steam-train-2579327_640.jpg
END:VEVENT
BEGIN:VEVENT
DTSTART;TZID=Europe/London:20250803T090000
DTEND;TZID=Europe/London:20250803T170000
DTSTAMP:20260415T143626
CREATED:20250716T091403Z
LAST-MODIFIED:20250716T091427Z
UID:970-1754211600-1754240400@www.motortrade.co.uk
SUMMARY:Wroxall Classic & Performance Motor Show Warwick
DESCRIPTION:There are plenty of chances to browse for bargains\, project parts\, or that historic insignia with the auto jumble and a range of varied trade stands. Refuel and relax at the many refreshment stops \n\n\n\nWroxall Estate\, home to the Wroxall Abbey\, now a hotel\, is nestled just outside of Warwick in 27 acres Warwickshire countryside and parkland of the estate and is home as a new venue for the Warwickshire Classic & Performance Motor Show. We welcome you to an estate that’s steeped in a rich history dating back as far as the 11th Century.  \n\n\n\nContact Address: Great British Motor Shows Ltd\,Milburn House | 3 Oxford Street | Workington | Cumbria | CA14 2AL M: 07720 555455 \n\n\n\nView Website: https://www.greatbritishmotorshows.com/
URL:https://www.motortrade.co.uk/event/wroxall-classic-performance-motor-show-warwick/
LOCATION:Wroxall Abbey\, Wroxall Park\, Birmingham Road\, Warwickshire\, CV35 7NB
END:VEVENT
END:VCALENDAR