BEGIN:VCALENDAR
VERSION:2.0
PRODID:-//Motor Trade - ECPv6.15.11//NONSGML v1.0//EN
CALSCALE:GREGORIAN
METHOD:PUBLISH
X-ORIGINAL-URL:https://www.motortrade.co.uk
X-WR-CALDESC:Events for Motor Trade
REFRESH-INTERVAL;VALUE=DURATION:PT1H
X-Robots-Tag:noindex
X-PUBLISHED-TTL:PT1H
BEGIN:VTIMEZONE
TZID:Europe/London
BEGIN:DAYLIGHT
TZOFFSETFROM:+0000
TZOFFSETTO:+0100
TZNAME:BST
DTSTART:20240331T010000
END:DAYLIGHT
BEGIN:STANDARD
TZOFFSETFROM:+0100
TZOFFSETTO:+0000
TZNAME:GMT
DTSTART:20241027T010000
END:STANDARD
BEGIN:DAYLIGHT
TZOFFSETFROM:+0000
TZOFFSETTO:+0100
TZNAME:BST
DTSTART:20250330T010000
END:DAYLIGHT
BEGIN:STANDARD
TZOFFSETFROM:+0100
TZOFFSETTO:+0000
TZNAME:GMT
DTSTART:20251026T010000
END:STANDARD
BEGIN:DAYLIGHT
TZOFFSETFROM:+0000
TZOFFSETTO:+0100
TZNAME:BST
DTSTART:20260329T010000
END:DAYLIGHT
BEGIN:STANDARD
TZOFFSETFROM:+0100
TZOFFSETTO:+0000
TZNAME:GMT
DTSTART:20261025T010000
END:STANDARD
END:VTIMEZONE
BEGIN:VEVENT
DTSTART;TZID=Europe/London:20250815T100000
DTEND;TZID=Europe/London:20250817T180000
DTSTAMP:20260419T223939
CREATED:20250530T151644Z
LAST-MODIFIED:20250530T151645Z
UID:390-1755252000-1755453600@www.motortrade.co.uk
SUMMARY:The British Motor Show
DESCRIPTION:Get ready for the ultimate automotive extravaganza as The British Motor Show returns to Farnborough International Exhibition & Conference Centre from 15–17 August 2025. Dubbed “The Greatest Show On Wheels\,” this action-packed event promises an unforgettable experience for car enthusiasts and families alike. \n\n\n\nExplore over 1\,500 vehicles\, including the latest electric models\, rare supercars\, cherished classics\, and eye-catching modified cars. The show offers a unique opportunity to get up close with cutting-edge automotive technology and timeless designs. \n\n\n\n\n\n\n\n\n\nThe excitement doesn’t stop there. The Cazoo Live Arena hosts thrilling live-action events\, featuring stunt driving by the renowned Paul Swift\, the exhilarating Supercar Showdown\, and the awe-inspiring World Truck Pulling Championship . For a sky-high spectacle\, don’t miss the British Army’s Red Devils Parachute Display Team as they deliver a breathtaking aerial performance. \n\n\n\nFamilies will find plenty to enjoy\, from the MOTORS Family Zone and live music stage to interactive rides and attractions. Youngsters can even get behind the wheel with under-17 driving experiences\, while the Alpine E-Sports Zone offers virtual racing thrills. \n\n\n\nTickets are affordably priced\, with single-day adult tickets at £24.95 and family passes (2 adults & 2 children) at £59.90. For those wanting the full experience\, 3-day passes are available at £49.90 for adults and £119.90 for families. \n\n\n\nDon’t miss out on this celebration of automotive culture. Secure your tickets today and be part of the UK’s premier motor show. \n\n\n\nFor more information and to purchase tickets\, visit the official website: The British Motor Show.
URL:https://www.motortrade.co.uk/event/the-british-motor-show/
LOCATION:Farnborough International Exhibition Centre\, Etps Rd\, Farnborough\, GU14 6FD\, United Kingdom
ATTACH;FMTTYPE=image/png:https://www.motortrade.co.uk/wp-content/uploads/2025/05/motor-show.png
END:VEVENT
END:VCALENDAR