BEGIN:VCALENDAR
VERSION:2.0
PRODID:-//Motor Trade - ECPv6.15.11//NONSGML v1.0//EN
CALSCALE:GREGORIAN
METHOD:PUBLISH
X-WR-CALNAME:Motor Trade
X-ORIGINAL-URL:https://www.motortrade.co.uk
X-WR-CALDESC:Events for Motor Trade
REFRESH-INTERVAL;VALUE=DURATION:PT1H
X-Robots-Tag:noindex
X-PUBLISHED-TTL:PT1H
BEGIN:VTIMEZONE
TZID:Europe/London
BEGIN:DAYLIGHT
TZOFFSETFROM:+0000
TZOFFSETTO:+0100
TZNAME:BST
DTSTART:20240331T010000
END:DAYLIGHT
BEGIN:STANDARD
TZOFFSETFROM:+0100
TZOFFSETTO:+0000
TZNAME:GMT
DTSTART:20241027T010000
END:STANDARD
BEGIN:DAYLIGHT
TZOFFSETFROM:+0000
TZOFFSETTO:+0100
TZNAME:BST
DTSTART:20250330T010000
END:DAYLIGHT
BEGIN:STANDARD
TZOFFSETFROM:+0100
TZOFFSETTO:+0000
TZNAME:GMT
DTSTART:20251026T010000
END:STANDARD
BEGIN:DAYLIGHT
TZOFFSETFROM:+0000
TZOFFSETTO:+0100
TZNAME:BST
DTSTART:20260329T010000
END:DAYLIGHT
BEGIN:STANDARD
TZOFFSETFROM:+0100
TZOFFSETTO:+0000
TZNAME:GMT
DTSTART:20261025T010000
END:STANDARD
END:VTIMEZONE
BEGIN:VEVENT
DTSTART;TZID=Europe/London:20250815T100000
DTEND;TZID=Europe/London:20250817T180000
DTSTAMP:20260414T010317
CREATED:20250530T151644Z
LAST-MODIFIED:20250530T151645Z
UID:390-1755252000-1755453600@www.motortrade.co.uk
SUMMARY:The British Motor Show
DESCRIPTION:Get ready for the ultimate automotive extravaganza as The British Motor Show returns to Farnborough International Exhibition & Conference Centre from 15–17 August 2025. Dubbed “The Greatest Show On Wheels\,” this action-packed event promises an unforgettable experience for car enthusiasts and families alike. \n\n\n\nExplore over 1\,500 vehicles\, including the latest electric models\, rare supercars\, cherished classics\, and eye-catching modified cars. The show offers a unique opportunity to get up close with cutting-edge automotive technology and timeless designs. \n\n\n\n\n\n\n\n\n\nThe excitement doesn’t stop there. The Cazoo Live Arena hosts thrilling live-action events\, featuring stunt driving by the renowned Paul Swift\, the exhilarating Supercar Showdown\, and the awe-inspiring World Truck Pulling Championship . For a sky-high spectacle\, don’t miss the British Army’s Red Devils Parachute Display Team as they deliver a breathtaking aerial performance. \n\n\n\nFamilies will find plenty to enjoy\, from the MOTORS Family Zone and live music stage to interactive rides and attractions. Youngsters can even get behind the wheel with under-17 driving experiences\, while the Alpine E-Sports Zone offers virtual racing thrills. \n\n\n\nTickets are affordably priced\, with single-day adult tickets at £24.95 and family passes (2 adults & 2 children) at £59.90. For those wanting the full experience\, 3-day passes are available at £49.90 for adults and £119.90 for families. \n\n\n\nDon’t miss out on this celebration of automotive culture. Secure your tickets today and be part of the UK’s premier motor show. \n\n\n\nFor more information and to purchase tickets\, visit the official website: The British Motor Show.
URL:https://www.motortrade.co.uk/event/the-british-motor-show/
LOCATION:Farnborough International Exhibition Centre\, Etps Rd\, Farnborough\, GU14 6FD\, United Kingdom
ATTACH;FMTTYPE=image/png:https://www.motortrade.co.uk/wp-content/uploads/2025/05/motor-show.png
END:VEVENT
BEGIN:VEVENT
DTSTART;TZID=Europe/London:20250817T100000
DTEND;TZID=Europe/London:20250817T160000
DTSTAMP:20260414T010317
CREATED:20250716T092843Z
LAST-MODIFIED:20250808T125908Z
UID:974-1755424800-1755446400@www.motortrade.co.uk
SUMMARY:Northumberland Classic & Performance Motor Show
DESCRIPTION:Corbridge is a beautiful Roman town with a lot of history and heritage. What better place to hold an event for classic cars and other old vehicles when we go back to the Tynedale Rugby Club grounds in the summer? \n\n\n\nIn the summer\, Tynedale Park will be full of classic cars\, kit cars\, custom cars\, modern classics\, motorcycles\, light commercials\, and classic 4x4s. The park is huge and has lots of space. \n\n\n\nThe park covers 30 acres and has both level grass and hard surfaces. It is right next to the Corbridge Railway Station\, so people can easily get to the event by train or by following the road signs. \n\n\n\nAt Great British Motor Shows\, you can look forward to all the usual fun of a show. Meet other people who love old cars\, tell each other stories over a chamois\, and look around the many trade and autojumble stands. All afternoon\, the show arena will be on with full commentary. \n\n\n\nWhy not do it over the weekend? Some people will be able to camp on Saturday afternoon and evening\, and there will be a bar in the evening. You must make a reservation in advance.
URL:https://www.motortrade.co.uk/event/northumberland-classic-performance-motor-show/
LOCATION:Tynedale Park\, Station Road\, Corbridge\, Northumberland\, NE45 5AY
CATEGORIES:Classic Cars
END:VEVENT
BEGIN:VEVENT
DTSTART;TZID=Europe/London:20250817T100000
DTEND;TZID=Europe/London:20250817T160000
DTSTAMP:20260414T010317
CREATED:20250716T170453Z
LAST-MODIFIED:20250725T150205Z
UID:997-1755424800-1755446400@www.motortrade.co.uk
SUMMARY:Aston Martin - Celebrating Vantage
DESCRIPTION:Aston Martin will commemorate 20 years of Gaydon Vantage and 75 years of the Vantage name during this amazing performance. The term “Vantage” was originally used by Aston Martin in 1950 as a specification for the DB2. Throughout the Aston Martin model range\, the Vantage moniker persisted\, evolving from a specification to a model name. \n\n\n\nThere will be a display of Aston Martin vehicles associated with the Vantage moniker\, ranging from DB2 to the present model\, to commemorate the 75th anniversary of the Vantage name. \n\n\n\nAdditionally\, the day will commemorate 20 years since the original Gaydon Vantage was introduced. In the illustrious history of the brand\, this version of the Vantage continues to be the largest sales success to date. Our goal is to have the most Gaydon VH2 Vantages at the event. featuring a display of every single model\, starting with the V8 Vantage in 2005 and continuing through the V12 Vantage and the last Vantage to depart Gaydon. Go here to learn more. \n\n\n\nAll owners and fans of the brand are welcome to attend the event\, which is put on by the Aston Martin Owners Club and the Aston Martin Heritage Trust in collaboration with partners. A few Aston Martin experts will be there to support the owners’ and enthusiasts’ event.
URL:https://www.motortrade.co.uk/event/aston-martin-celebrating-vantage/
LOCATION:British Motor Museum\, Banbury Road Gaydon\, Lighthorne Heath\, Warwick\, CV35 0BJ\, United Kingdom
ATTACH;FMTTYPE=image/webp:https://www.motortrade.co.uk/wp-content/uploads/2025/07/bmmx30c.webp
END:VEVENT
END:VCALENDAR