BEGIN:VCALENDAR
VERSION:2.0
PRODID:-//Motor Trade - ECPv6.15.11//NONSGML v1.0//EN
CALSCALE:GREGORIAN
METHOD:PUBLISH
X-ORIGINAL-URL:https://www.motortrade.co.uk
X-WR-CALDESC:Events for Motor Trade
REFRESH-INTERVAL;VALUE=DURATION:PT1H
X-Robots-Tag:noindex
X-PUBLISHED-TTL:PT1H
BEGIN:VTIMEZONE
TZID:Europe/London
BEGIN:DAYLIGHT
TZOFFSETFROM:+0000
TZOFFSETTO:+0100
TZNAME:BST
DTSTART:20240331T010000
END:DAYLIGHT
BEGIN:STANDARD
TZOFFSETFROM:+0100
TZOFFSETTO:+0000
TZNAME:GMT
DTSTART:20241027T010000
END:STANDARD
BEGIN:DAYLIGHT
TZOFFSETFROM:+0000
TZOFFSETTO:+0100
TZNAME:BST
DTSTART:20250330T010000
END:DAYLIGHT
BEGIN:STANDARD
TZOFFSETFROM:+0100
TZOFFSETTO:+0000
TZNAME:GMT
DTSTART:20251026T010000
END:STANDARD
BEGIN:DAYLIGHT
TZOFFSETFROM:+0000
TZOFFSETTO:+0100
TZNAME:BST
DTSTART:20260329T010000
END:DAYLIGHT
BEGIN:STANDARD
TZOFFSETFROM:+0100
TZOFFSETTO:+0000
TZNAME:GMT
DTSTART:20261025T010000
END:STANDARD
END:VTIMEZONE
BEGIN:VEVENT
DTSTART;TZID=Europe/London:20250822T080000
DTEND;TZID=Europe/London:20250824T170000
DTSTAMP:20260414T012326
CREATED:20250612T073926Z
LAST-MODIFIED:20250613T104552Z
UID:562-1755849600-1756054800@www.motortrade.co.uk
SUMMARY:Silverstone Festival
DESCRIPTION:A three-day blast of historic racing\, live music and family fun over the August Bank Holiday weekend. Historic F1 cars\, touring cars and sports-prototype grids provide non-stop track action\, with headline concerts each evening. \n\n\n\nCelebrating 75 years of Formula One where it all began\, join us for a special tribute with the biggest and best collection of cars raced by F1 championship winners since the competition began on display
URL:https://www.motortrade.co.uk/event/silverstone-festival/
LOCATION:Silverstone Circuit\, Towcester\, Northamptonshire\, NN12 8TN\, United Kingdom
CATEGORIES:Sports Cars
END:VEVENT
END:VCALENDAR