BEGIN:VCALENDAR
VERSION:2.0
PRODID:-//Motor Trade - ECPv6.15.11//NONSGML v1.0//EN
CALSCALE:GREGORIAN
METHOD:PUBLISH
X-ORIGINAL-URL:https://www.motortrade.co.uk
X-WR-CALDESC:Events for Motor Trade
REFRESH-INTERVAL;VALUE=DURATION:PT1H
X-Robots-Tag:noindex
X-PUBLISHED-TTL:PT1H
BEGIN:VTIMEZONE
TZID:Europe/London
BEGIN:DAYLIGHT
TZOFFSETFROM:+0000
TZOFFSETTO:+0100
TZNAME:BST
DTSTART:20240331T010000
END:DAYLIGHT
BEGIN:STANDARD
TZOFFSETFROM:+0100
TZOFFSETTO:+0000
TZNAME:GMT
DTSTART:20241027T010000
END:STANDARD
BEGIN:DAYLIGHT
TZOFFSETFROM:+0000
TZOFFSETTO:+0100
TZNAME:BST
DTSTART:20250330T010000
END:DAYLIGHT
BEGIN:STANDARD
TZOFFSETFROM:+0100
TZOFFSETTO:+0000
TZNAME:GMT
DTSTART:20251026T010000
END:STANDARD
BEGIN:DAYLIGHT
TZOFFSETFROM:+0000
TZOFFSETTO:+0100
TZNAME:BST
DTSTART:20260329T010000
END:DAYLIGHT
BEGIN:STANDARD
TZOFFSETFROM:+0100
TZOFFSETTO:+0000
TZNAME:GMT
DTSTART:20261025T010000
END:STANDARD
END:VTIMEZONE
BEGIN:VEVENT
DTSTART;TZID=Europe/London:20250830T100000
DTEND;TZID=Europe/London:20250830T150000
DTSTAMP:20260414T011545
CREATED:20250609T135356Z
LAST-MODIFIED:20250704T145449Z
UID:512-1756548000-1756566000@www.motortrade.co.uk
SUMMARY:Rustival
DESCRIPTION:Known as “the UK’s friendliest car show\,” the family-friendly event is a joyous celebration of motorcyclists\, bus riders\, and commercial drivers. \n\n\n\nRustival 2025 takes place on Saturday 30 August (10 am–3 pm) at the British Motor Museum in Gaydon\, Warwickshire—a friendly celebration of everything with wheels. Whether you drive a clapped-out classic or a brand-new ride\, it’s warmly welcomed: the show’s motto is\, “Clapped out to Concours – if it has got wheels\, it is welcome” \n\n\n\nInside the museum\, you’ll find over 400 iconic historic British cars included with your ticket.  \n\n\n\nHighlights include expert talks\, Q&A sessions with YouTube personalities like HubNut\, Furious Driving\, and idriveaclassic\, plus “Friendship Corner” where enthusiasts connect and share stories. The event offers club displays\, traders\, and kids’ activities\, making it ideal for families. Exhibitor tickets (£11) cover the vehicle and driver\, while visitor tickets (£16) include full museum access. \n\n\n\nRustival 2025 promises a relaxed\, inclusive atmosphere—part expert showcase\, part social meet-up—where motoring fans of all ages and stages come together to celebrate their passion in a truly welcoming environment. \n\n\n\nTrade Stands\n\n\n\nBook a space to trade at the show! For more details and to book\, please contact the Rustival team on hello@rustival.co.uk. \n\n\n\nFIND OUT WHAT’S ON
URL:https://www.motortrade.co.uk/event/rustival/
LOCATION:British Motor Museum\, Banbury Road Gaydon\, Lighthorne Heath\, Warwick\, CV35 0BJ\, United Kingdom
ATTACH;FMTTYPE=image/webp:https://www.motortrade.co.uk/wp-content/uploads/2025/06/logo.webp
END:VEVENT
END:VCALENDAR