BEGIN:VCALENDAR
VERSION:2.0
PRODID:-//Motor Trade - ECPv6.15.11//NONSGML v1.0//EN
CALSCALE:GREGORIAN
METHOD:PUBLISH
X-WR-CALNAME:Motor Trade
X-ORIGINAL-URL:https://www.motortrade.co.uk
X-WR-CALDESC:Events for Motor Trade
REFRESH-INTERVAL;VALUE=DURATION:PT1H
X-Robots-Tag:noindex
X-PUBLISHED-TTL:PT1H
BEGIN:VTIMEZONE
TZID:Europe/London
BEGIN:DAYLIGHT
TZOFFSETFROM:+0000
TZOFFSETTO:+0100
TZNAME:BST
DTSTART:20240331T010000
END:DAYLIGHT
BEGIN:STANDARD
TZOFFSETFROM:+0100
TZOFFSETTO:+0000
TZNAME:GMT
DTSTART:20241027T010000
END:STANDARD
BEGIN:DAYLIGHT
TZOFFSETFROM:+0000
TZOFFSETTO:+0100
TZNAME:BST
DTSTART:20250330T010000
END:DAYLIGHT
BEGIN:STANDARD
TZOFFSETFROM:+0100
TZOFFSETTO:+0000
TZNAME:GMT
DTSTART:20251026T010000
END:STANDARD
BEGIN:DAYLIGHT
TZOFFSETFROM:+0000
TZOFFSETTO:+0100
TZNAME:BST
DTSTART:20260329T010000
END:DAYLIGHT
BEGIN:STANDARD
TZOFFSETFROM:+0100
TZOFFSETTO:+0000
TZNAME:GMT
DTSTART:20261025T010000
END:STANDARD
END:VTIMEZONE
BEGIN:VEVENT
DTSTART;TZID=Europe/London:20250905T090000
DTEND;TZID=Europe/London:20250907T170000
DTSTAMP:20260414T010202
CREATED:20250723T100523Z
LAST-MODIFIED:20250723T100524Z
UID:1026-1757062800-1757264400@www.motortrade.co.uk
SUMMARY:Concours of Elegance
DESCRIPTION:From September 5th to 7th\, 2025\, the Concours of Elegance will be held again on the beautiful grounds of Hampton Court Palace. It promises to be another unforgettable celebration of the world’s best classic and collector cars. The event\, which is now in its 14th year\, will take place in the Palace’s beautiful Fountain Gardens and feature about 60 of the rarest and most historically important cars. Along with the main concours display\, there will be another 500 cars on display\, ranging from classic masterpieces to high-tech supercars. \n\n\n\nThis year’s event will also have the Levitt Concours for cars owned by women\, the Thirty-Under-30 category for young car fans\, and the popular Club Trophy\, which is judged by both professional panels and the public. It will start with a two-day driving tour\, and on Sunday\, the famous auction house Gooding & Company will hold a sale of carefully chosen collector cars. The 2025 Concours of Elegance promises a world-class experience for both car fans and casual visitors. It will have high-end accommodations\, gourmet food\, and a fun atmosphere.
URL:https://www.motortrade.co.uk/event/concours-of-elegance/
LOCATION:Hampton Court Palace\, Hampton Ct Way\, Molesey\, East Molesey\, KT8 9AU
ATTACH;FMTTYPE=image/jpeg:https://www.motortrade.co.uk/wp-content/uploads/2025/07/concours-of-elegance.jpg
END:VEVENT
BEGIN:VEVENT
DTSTART;TZID=Europe/London:20250906T090000
DTEND;TZID=Europe/London:20250906T170000
DTSTAMP:20260414T010202
CREATED:20250725T153733Z
LAST-MODIFIED:20250725T153956Z
UID:1089-1757149200-1757178000@www.motortrade.co.uk
SUMMARY:Autumn Action Day
DESCRIPTION:Celebrating performance and modified cars. What to expect: \n\n\n\nThousands of static display cars \n\n\n\nDrifting demonstrations \n\n\n\nShow & shine competition \n\n\n\nTrade village area \n\n\n\nPublic track/display laps \n\n\n\nMuch more! \n\n\n\nSAMCO SPORT are the title sponsor for Castle Combe Circuit’s Autumn Action Day race meeting.
URL:https://www.motortrade.co.uk/event/autumn-action-day/
LOCATION:Castle Combe Circuit\, Castle Combe\, Chippenham\, Wiltshire\, SN14 7EY
ATTACH;FMTTYPE=image/jpeg:https://www.motortrade.co.uk/wp-content/uploads/2025/07/castle-combe-circuit.jpg
END:VEVENT
BEGIN:VEVENT
DTSTART;TZID=Europe/London:20250906T090000
DTEND;TZID=Europe/London:20250907T170000
DTSTAMP:20260414T010202
CREATED:20250808T124534Z
LAST-MODIFIED:20250808T124615Z
UID:1312-1757149200-1757264400@www.motortrade.co.uk
SUMMARY:British Racing & Sports Car Club (BRSCC)
DESCRIPTION:Join us for a weekend of adrenaline-fueled motorsport as the BRSCC Autumn Race Weekend hits Croft Circuit this September 2025! Featuring an exciting mix of championships\, this event is a must for racing fans. \n\n\n\nWeekend Highlights: \n\n\n\n\nTop-Tier Racing – Experience the UK’s best racing series as drivers go wheel-to-wheel on Croft’s technical circuit.\n\n\n\nDiverse Championships – From the Downforce Radio Mazda MX-5 Clubman Championship to BRSCC BMW 1 Series SuperCup\, there’s excitement for all fans.\n\n\n\nFamily Fun – Enjoy great views\, food and entertainment for motorsport enthusiasts of all ages.\n\n\n\n\nFeatured Championships \n\n\n\nGinetta Junior Championship – Young talent in Ginetta G40s brings high-energy action to the weekend. \n\n\n\nGAZ Shocks Mazda MX-5 Championship – The penultimate round promises bumper-to-bumper battles as title contenders push for glory. \n\n\n\nDownforce Radio Mazda MX-5 Clubman Championship – A proving ground for rising talents with tight\, competitive racing. \n\n\n\nClapham North MOT Mazda MX-5 SuperCup – High-performance Mk3 MX-5s fight for vital championship points. \n\n\n\nNankang Tyre CityCar Cup & Student Motorsport Challenge – Small cars\, big action as students and privateers battle it out. \n\n\n\nNankang Tyre BMW Compact Cup – Expect fearless overtakes and ultra-close racing in this thrilling series. \n\n\n\nBRSCC BMW 1 Series SuperCup – High-speed BMW action on Croft’s demanding layout. \n\n\n\nMG Cockshoot Cup & Hickford Construction MG Metro Cup – A combined grid of classic MGs and nimble Metros for exciting\, close-quarters racing.
URL:https://www.motortrade.co.uk/event/british-racing-sports-car-club-brscc/
LOCATION:Croft Circuit\, West Lane\, Dalton On Tees\, North Yorkshire\, DL2 2PL
CATEGORIES:Race Events
ATTACH;FMTTYPE=image/png:https://www.motortrade.co.uk/wp-content/uploads/2025/08/croft-logo.png
END:VEVENT
BEGIN:VEVENT
DTSTART;TZID=Europe/London:20250906T090000
DTEND;TZID=Europe/London:20250907T170000
DTSTAMP:20260414T010202
CREATED:20250808T125054Z
LAST-MODIFIED:20250808T125055Z
UID:1313-1757149200-1757264400@www.motortrade.co.uk
SUMMARY:MG Fest North
DESCRIPTION:Join the MG Car Club for the MG Fest North\, a thrilling two-day festival celebrating the Club’s 95th anniversary. This action-packed weekend promises on and off track entertainment to suit everyone. \n\n\n\nA Fun-Filled Festival Weekend \n\n\n\nMG Fest North will combine motorsport action\, arena entertainment\, and a lively social atmosphere\, with highlights including: \n\n\n\n\nFull Weekend Racing Programme: Provided by the British Racing and Sports Car Club (BRSCC)\, featuring a variety of exhilarating races\, including MGs battling it out on the track.\n\n\n\nAnniversary car displays celebrating 95 years of the MG Car Club\n\n\n\nPride of Ownership competition and Show & Shine event.\n\n\n\nCarkhana and Parade Laps showcasing stunning MG vehicles.\n\n\n\nRoad Runs for participants to explore the surrounding countryside.\n\n\n\nMG Register parking to celebrate the marque’s heritage.\n\n\n\n\nEntertainment for Everyone \n\n\n\nBeyond the motorsport and car displays\, the festival will feature: \n\n\n\nMG Car Club Shop: Pick up exclusive 95th anniversary memorabilia. \n\n\n\nLive Music: A live band and DJ on Saturday night (ticket entry required). \n\n\n\nFood & Drink: A range of delicious options and a licensed bar. \n\n\n\nClassic Buses to Northallerton: Vintage transport to the charming nearby market town. \n\n\n\nTrade Stands & Auto Jumble: A haven for enthusiasts\, offering MG parts\, merchandise\, and motoring treasures.
URL:https://www.motortrade.co.uk/event/mg-fest-north/
LOCATION:Croft Circuit\, West Lane\, Dalton On Tees\, North Yorkshire\, DL2 2PL
ATTACH;FMTTYPE=image/webp:https://www.motortrade.co.uk/wp-content/uploads/2025/08/MG-Fest-banner.webp
END:VEVENT
BEGIN:VEVENT
DTSTART;TZID=Europe/London:20250906T100000
DTEND;TZID=Europe/London:20250907T160000
DTSTAMP:20260414T010202
CREATED:20250806T161914Z
LAST-MODIFIED:20250806T161915Z
UID:1290-1757152800-1757260800@www.motortrade.co.uk
SUMMARY:Retro Truck Show
DESCRIPTION:The Retro Truck Show 2025 returns to the British Motor Museum in Gaydon on Saturday 6 and Sunday 7 September\, promising a spectacular display of over 300 classic and modern trucks from across Europe. Now in its 15th year\, the show celebrates vehicles built between 1971 and 2001\, featuring iconic models from Volvo\, Scania\, DAF\, Foden\, ERF\, and more. \n\n\n\nVisitors can admire rows of beautifully preserved trucks\, explore an Indoor Model Show\, and browse trade stands offering memorabilia\, photos\, and brochures. The event is family-friendly\, with food stalls serving burgers and ice cream\, plus hot meals and refreshments available at the museum’s Junction 12 Café. \n\n\n\nExhibitors can showcase their vehicles for a £30 fee\, which includes entry for the driver and a passenger. Camping is available on Friday and Saturday nights for £26 per pitch\, while exhibitors can camp in their trucks for free. \n\n\n\nAdvance tickets are priced at £17 for adults\, £9 for children\, £15 for concessions\, and £46 for families\, with entry including access to the museum and collections centre. Visitors can also convert their ticket into an annual pass at no extra cost\, making this a must-attend event for truck enthusiasts and curious families alike.
URL:https://www.motortrade.co.uk/event/retro-truck-show/
LOCATION:British Motor Museum\, Banbury Road Gaydon\, Lighthorne Heath\, Warwick\, CV35 0BJ\, United Kingdom
ATTACH;FMTTYPE=image/webp:https://www.motortrade.co.uk/wp-content/uploads/2025/07/bmmx30c.webp
END:VEVENT
END:VCALENDAR