BEGIN:VCALENDAR
VERSION:2.0
PRODID:-//Motor Trade - ECPv6.15.11//NONSGML v1.0//EN
CALSCALE:GREGORIAN
METHOD:PUBLISH
X-ORIGINAL-URL:https://www.motortrade.co.uk
X-WR-CALDESC:Events for Motor Trade
REFRESH-INTERVAL;VALUE=DURATION:PT1H
X-Robots-Tag:noindex
X-PUBLISHED-TTL:PT1H
BEGIN:VTIMEZONE
TZID:Europe/London
BEGIN:DAYLIGHT
TZOFFSETFROM:+0000
TZOFFSETTO:+0100
TZNAME:BST
DTSTART:20240331T010000
END:DAYLIGHT
BEGIN:STANDARD
TZOFFSETFROM:+0100
TZOFFSETTO:+0000
TZNAME:GMT
DTSTART:20241027T010000
END:STANDARD
BEGIN:DAYLIGHT
TZOFFSETFROM:+0000
TZOFFSETTO:+0100
TZNAME:BST
DTSTART:20250330T010000
END:DAYLIGHT
BEGIN:STANDARD
TZOFFSETFROM:+0100
TZOFFSETTO:+0000
TZNAME:GMT
DTSTART:20251026T010000
END:STANDARD
BEGIN:DAYLIGHT
TZOFFSETFROM:+0000
TZOFFSETTO:+0100
TZNAME:BST
DTSTART:20260329T010000
END:DAYLIGHT
BEGIN:STANDARD
TZOFFSETFROM:+0100
TZOFFSETTO:+0000
TZNAME:GMT
DTSTART:20261025T010000
END:STANDARD
END:VTIMEZONE
BEGIN:VEVENT
DTSTART;TZID=Europe/London:20250912T100000
DTEND;TZID=Europe/London:20250914T170000
DTSTAMP:20260419T210337
CREATED:20250723T101334Z
LAST-MODIFIED:20250808T124654Z
UID:1029-1757671200-1757869200@www.motortrade.co.uk
SUMMARY:Goodwood Revival
DESCRIPTION:On track action at the 2024 Goodwood Revival. Ph. by Dominic James.\n\n\n\nThe 2025 Goodwood Revival will take place at the famous Goodwood Motor Circuit from September 12th to 14th. It promises to be three days of immersive vintage entertainment\, featuring historic racing\, period fashion\, and mid-20th-century charm. Fans and racers alike dress in period clothes for the event\, which carefully recreates the atmosphere of the circuit’s heyday (1948–1966). \n\n\n\nOn the track\, there will be about 13 exciting races with legendary cars. Some of the most important awards are the Goodwood Trophy for Grand Prix and Voiturette cars from 1930 to 1951\, the Richmond & Gordon Trophies for F1 racers from 1952 to 1960\, the St. Mary’s Trophy for vintage saloons\, and the Freddie March\, Chichester\, Whitsun\, and Stirling Moss Memorial Trophies.The whole track will once again only use environmentally friendly fuels\, showing that Goodwood is dedicated to racing that is good for the environment. \n\n\n\nMotorsport legends like Jenson Button will be on the grid for the RAC TT Celebration\, driving a Jaguar E-type. Karun Chandhok\, Max Chilton\, Jean-Eric Vergne\, and Érik Comas will also be there\, having all raced in F1. Nine Le Mans winners are also set to compete\, such as Tom Kristensen\, Derek Bell\, Emanuele Pirro\, and Romain Dumas. \n\n\n\nThe Revival is as much about the atmosphere off the track as it is about racing. On Sunday\, there will be a street party in the style of VE Day\, with old military vehicles\, flags\, swing bands\, and dancing people watching. \n\n\n\nStyle fans will enjoy thinking about clothes from that time\, with Dandy Wellington and burlesque star Dita Von Teese hosting the “Best Dressed” competition and leading discussions. \n\n\n\nFrom the roar of old engines to fancy fashion shows and stage shows to celebrations of the war\, the 2025 Goodwood Revival is shaping up to be a truly unforgettable celebration of mid-20th-century culture and motoring.
URL:https://www.motortrade.co.uk/event/goodwood-revival/
LOCATION:Goodwood House\, Chichester\, PO18 0PX
CATEGORIES:Classic Cars
ATTACH;FMTTYPE=image/webp:https://www.motortrade.co.uk/wp-content/uploads/2025/07/On-track-action-at-the-2024-Goodwood-Revival.-Ph.-by-Dominic-James.webp
END:VEVENT
END:VCALENDAR