BEGIN:VCALENDAR
VERSION:2.0
PRODID:-//Motor Trade - ECPv6.15.11//NONSGML v1.0//EN
CALSCALE:GREGORIAN
METHOD:PUBLISH
X-WR-CALNAME:Motor Trade
X-ORIGINAL-URL:https://www.motortrade.co.uk
X-WR-CALDESC:Events for Motor Trade
REFRESH-INTERVAL;VALUE=DURATION:PT1H
X-Robots-Tag:noindex
X-PUBLISHED-TTL:PT1H
BEGIN:VTIMEZONE
TZID:Europe/London
BEGIN:DAYLIGHT
TZOFFSETFROM:+0000
TZOFFSETTO:+0100
TZNAME:BST
DTSTART:20240331T010000
END:DAYLIGHT
BEGIN:STANDARD
TZOFFSETFROM:+0100
TZOFFSETTO:+0000
TZNAME:GMT
DTSTART:20241027T010000
END:STANDARD
BEGIN:DAYLIGHT
TZOFFSETFROM:+0000
TZOFFSETTO:+0100
TZNAME:BST
DTSTART:20250330T010000
END:DAYLIGHT
BEGIN:STANDARD
TZOFFSETFROM:+0100
TZOFFSETTO:+0000
TZNAME:GMT
DTSTART:20251026T010000
END:STANDARD
BEGIN:DAYLIGHT
TZOFFSETFROM:+0000
TZOFFSETTO:+0100
TZNAME:BST
DTSTART:20260329T010000
END:DAYLIGHT
BEGIN:STANDARD
TZOFFSETFROM:+0100
TZOFFSETTO:+0000
TZNAME:GMT
DTSTART:20261025T010000
END:STANDARD
END:VTIMEZONE
BEGIN:VEVENT
DTSTART;TZID=Europe/London:20250919T080000
DTEND;TZID=Europe/London:20250921T170000
DTSTAMP:20260419T210044
CREATED:20250808T131415Z
LAST-MODIFIED:20250808T131656Z
UID:1319-1758268800-1758474000@www.motortrade.co.uk
SUMMARY:Dubs in the Valley
DESCRIPTION:This year’s Vdubs In The Valley\, Shropshire’s most beloved VW Show\, is being hosted by Oceans Eleven. The theme is “under the sea\,” so come dressed to impress—and yes\, tenticles are encouraged. There will be a cap on attendance to keep the intimate\, welcoming VW vibe that we’ve grown to love. The event is back for another year\, bringing together top bands and entertainers from Shropshire and the West Midlands for a fantastic family weekend filled with hits from the 80s\, 90s\, and 2000s. \n\n\n\n\n\n\n\nSaturday & Sunday A Weekend Of Fun: \n\n\n\nSaturday hosts some amazing live entertainment including top local bands. See the full Entertainment Line Up. \n\n\n\nSunday welcomes VWs\, scooters\, other classic cars and movie cars for our Show & Shine\, so whether you are a Dubber or not why not pop along on the Sunday\, bring your wheels\, pop it into one of our categories and maybe win an award for your ride. Sunday also provides a great lineup of live music and children’s entertainment including the Show & Shine competition and judging. \n\n\n\n\n\n\n\n\n\n\n\nLive Music & Entertainment \n\n\n\nThere will be a full line up of great live entertainment on Friday Night (For Campers Only)\, on Saturday from Midday til 11pm\, and on Sunday from 11pm to close. See our Entertainment Page for the full line up !
URL:https://www.motortrade.co.uk/event/dubs-in-the-valley/
LOCATION:V-DUBS\, Lion Lane Off A442\, Bewdley\, Shropshire\, DY12 1SU
ATTACH;FMTTYPE=image/jpeg:https://www.motortrade.co.uk/wp-content/uploads/2025/08/vw-3568890_1280.jpg
END:VEVENT
BEGIN:VEVENT
DTSTART;TZID=Europe/London:20250920T080000
DTEND;TZID=Europe/London:20250921T170000
DTSTAMP:20260419T210044
CREATED:20250816T102810Z
LAST-MODIFIED:20250816T102851Z
UID:1397-1758355200-1758474000@www.motortrade.co.uk
SUMMARY:Kwik Fit British Touring Car Championship
DESCRIPTION:As the racers battle for the championship\, the long straights and tight corners provide thrilling opportunities to pass. At this second-to-last race of the season\, everything is on the line. \n\n\n\nAn action packed weekend of BTCC racing with entertainment levels set to be high as the finale draws near. PLUS\, a stellar line-up of support series thrills as they approach crunch time in their championships. \n\n\n\nThere are three BTCC races on Sunday\, 21 September:1. 11.302. 14.40|3. 17.10 \n\n\n\nBTCC weekends feature a packed line-up. In 2025\, support races include: \n\n\n\n\nVertu MINI CHALLENGE\n\n\n\nWera Tools British F4 Championship\n\n\n\nPorsche Sprint Challenge Great Britain\n\n\n\nPorsche Carrera Cup Great Britain\n\n\n\n\nThe schedule is packed with racing action\, with 14 races taking place across the two days. \n\n\n\nAccess All AreasAll weekend long\, enjoy the thrill of getting up close and personal with the drivers at the return of the reverse garages and open paddock. \n\n\n\nKIDS GO FREE!
URL:https://www.motortrade.co.uk/event/kwik-fit-british-touring-car-championship/
LOCATION:Silverstone Circuit\, Towcester\, Northamptonshire\, NN12 8TN\, United Kingdom
CATEGORIES:Race Events
ATTACH;FMTTYPE=image/webp:https://www.motortrade.co.uk/wp-content/uploads/2025/08/Silverstone_Circuit_logo.webp
END:VEVENT
BEGIN:VEVENT
DTSTART;TZID=Europe/London:20250920T090000
DTEND;TZID=Europe/London:20250921T170000
DTSTAMP:20260419T210044
CREATED:20250725T152946Z
LAST-MODIFIED:20250808T124647Z
UID:1087-1758358800-1758474000@www.motortrade.co.uk
SUMMARY:Autumn Classic Racing Festival
DESCRIPTION:Castle Combe’s Autumn Classic returns over Saturday 20 to Sunday 21 September 2025\, offering a weekend of spectacular historic racing guaranteed to thrill fans of classic motorsport. This year’s edition celebrates the 75th anniversary of the circuit\, highlighted by a special display inspired by the original 1950 event poster\, with legendary cars from that era on show. \n\n\n\nExpect high‑octane action on track from participating guest clubs\, including celebrated series such as the GT & Sports Car Cup\, FISCAR Inter‑Marque sports cars\, plus Formula Junior and other invitation races covering multiple decades. A standout addition for 2025 is the Group 1 Touring Cars Vince Woodman Trophy\, honoring the pre‑1983 British saloon car legends in exciting pit‑stop race format. \n\n\n\nOff‑track entertainment includes a vibrant trade village\, classic car displays\, club stands\, and guest speakers\, all set in the scenic Cotswolds backdrop. Whether you’re an enthusiast of mini racers\, GT cars or single‑seaters from yesteryear\, the Festival blends high‑quality racing with immersive heritage – a perfect celebration of Castle Combe’s motorsport legacy. \n\n\n\nAdvance tickets start at just £15 for a single day or £25 for the weekend\, with concessions and paddock hospitality packages available too. Make sure to book early for best pricing!
URL:https://www.motortrade.co.uk/event/autumn-classic-racing-festival/
LOCATION:Castle Combe Circuit\, Castle Combe\, Chippenham\, Wiltshire\, SN14 7EY
CATEGORIES:Classic Cars
ATTACH;FMTTYPE=image/jpeg:https://www.motortrade.co.uk/wp-content/uploads/2025/07/castle-combe-circuit.jpg
END:VEVENT
BEGIN:VEVENT
DTSTART;TZID=Europe/London:20250920T090000
DTEND;TZID=Europe/London:20250921T170000
DTSTAMP:20260419T210044
CREATED:20250808T124139Z
LAST-MODIFIED:20250808T124631Z
UID:1309-1758358800-1758474000@www.motortrade.co.uk
SUMMARY:750 Motor Club
DESCRIPTION:Croft circuit is one of the most challenging tracks in the UK. It is also one of the longest at 2.1 miles / 3.36 km per lap. Offering a unique and unforgettable experience for spectators of all ages. Whether you’re a seasoned motorsport fan or looking for a fun day out with the family. \n\n\n\nThe Croft 2025 racing calendar welcomes the 750 Motor Club back for a second appearance\, guaranteeing yet another spectacular weekend of racing. Fans can expect to be enthralled by the 750 Motor Club contingent’s eclectic mix of machinery and top-draw drivers\, as the group is known for delivering thrilling events. \n\n\n\n\n750MC Championships return to Croft\n\n\n\nTwo days of racing action\n\n\n\nChildren 15 and under go free
URL:https://www.motortrade.co.uk/event/750-motor-club/
LOCATION:Croft Circuit\, West Lane\, Dalton On Tees\, North Yorkshire\, DL2 2PL
CATEGORIES:Race Events
ATTACH;FMTTYPE=image/png:https://www.motortrade.co.uk/wp-content/uploads/2025/08/croft-logo.png
END:VEVENT
BEGIN:VEVENT
DTSTART;TZID=Europe/London:20250921T093000
DTEND;TZID=Europe/London:20250921T160000
DTSTAMP:20260419T210044
CREATED:20250725T150536Z
LAST-MODIFIED:20250725T150537Z
UID:1084-1758447000-1758470400@www.motortrade.co.uk
SUMMARY:Jaguars at Gaydon
DESCRIPTION:The British Motor Museum is collaborating with the Jaguar Daimler Heritage Trust (JDHT) to host this unique event. Join hundreds of Jaguars\, Daimlers\, Swallows\, SS\, and Lanchesters at this unforgettable event celebrating the 50th anniversary of the Jaguar XJS. Cars from many Jaguar Clubs and individuals will be on display. \n\n\n\nJoin us for a fun day out at Jaguars at Gaydon\, an informal gathering for automotive enthusiasts and owners of both Jaguars and Daimlers. We’re celebrating 90 years of the Jaguar marque and looking forward to Jaguar’s future. Once again\, we are delighted to be hosting the Champion of Champions Concours in conjunction with the Jaguar Drivers Club. The RIWAX Trophy\, a new addition to the event\, is a concourse category for commonly owned vehicles with a remarkable history that is designed to be more approachable. \n\n\n\nCome see the magnificent collection of big cats held by JDHT in the Collections Centre\, as well as outside in the main show display areas. Even if you don’t own a Jaguar\, you won’t want to miss this chance to see some rarely seen variants among them. Don’t miss the main museum’s Jaguar Zone! Take advantage of your show ticket to visit the Museum and Collections Centre buildings\, where you can see more than 400 historic British cars. \n\n\n\nA roving microphone will accompany the event host as they talk to attendees about their Jaguars. \n\n\n\nBook your visitor tickets\n\n\n\nBook your ticket to enjoy the show and explore the Museum too! Book in advance and SAVE as tickets are just £17 per adult\, £9 per child\, £15 per concession and £46 for a family of 4.
URL:https://www.motortrade.co.uk/event/jaguars-at-gaydon/
LOCATION:British Motor Museum\, Banbury Road Gaydon\, Lighthorne Heath\, Warwick\, CV35 0BJ\, United Kingdom
ATTACH;FMTTYPE=image/webp:https://www.motortrade.co.uk/wp-content/uploads/2025/07/bmmx30c.webp
END:VEVENT
BEGIN:VEVENT
DTSTART;TZID=Europe/London:20250921T100000
DTEND;TZID=Europe/London:20250921T160000
DTSTAMP:20260419T210044
CREATED:20250725T145633Z
LAST-MODIFIED:20250808T124636Z
UID:1080-1758448800-1758470400@www.motortrade.co.uk
SUMMARY:The Festival of 1000 Classic Cars
DESCRIPTION:There are now over 1\,000 display vehicles at the event every year\, and it has been going strong for almost 30 years. \n\n\n\nThe Festival of 1000 Cars Inc. NW Classic Motorcycle Show is a great way for car fans\, families and day trippers to enjoy a day of motoring history. There are also trade and autojumble stalls selling a variety of hard-to-find parts\, accessories\, vintage items\, crafts and memorabilia\, as well as modern car dealership stands\, good food\, drinks\, ice cream and responsible bars. \n\n\n\nThere will also be a full vehicle judging and awards ceremony at the event\, which will be run by a well-known commentator and car fan. There will be awards for different age groups of cars\, and the Club of the Show\, Pride of Ownership\, and Car of the Show awards will be given out at the end. \n\n\n\nVenue: https://cholmondeleycastle.com
URL:https://www.motortrade.co.uk/event/the-festival-of-1000-classic-cars/
LOCATION:Cholmondeley Castle\, Malpas\,\, Cheshire\, SY14 8AH
CATEGORIES:Classic Cars
END:VEVENT
BEGIN:VEVENT
DTSTART;TZID=Europe/London:20250921T100000
DTEND;TZID=Europe/London:20250921T160000
DTSTAMP:20260419T210044
CREATED:20250808T130408Z
LAST-MODIFIED:20250808T130442Z
UID:1317-1758448800-1758470400@www.motortrade.co.uk
SUMMARY:Cars and Cuppas
DESCRIPTION:Join us on Sunday 21st September for our first ever Cars & Cuppas Sunday Showcase at Winslade Park.  This’ll be a big end of summer car show where we will have over 500 show cars joining us on the lawn as well as some local automotive businesses. If you would like to apply to display your car\, please submit your application here.  \n\n\n\nEvent details:\n\n\n\n\nTickets are £20 per person when booked in advanced or £25 on the day. Show Car Drivers passes are free\, so if you have a car you want to enter into the show please apply here. If you are accepted to show your car\, you will be given a unique discount code to redeem your FREE drivers pass. All show cars must be in the event before 9am. Passengers will need to buy a ticket.\n\n\n\nUnder 16’s free.\n\n\n\nThe event will start at 10am and finish at 4pm. All show cars will arrive between 7am – 9am. Visitor access will be from 10am.\n\n\n\nWe will have over 500 cars on display ranging from sports\, classic\, performance\, supercars & everything else in between.\n\n\n\nWe will be running a Show & Shine for up to 20 cars which’ll be picked out of the show car applications. Each car will be judged and the top three will be awarded.\n\n\n\nTrade stands such as Victri\n\n\n\nFood & Drink available all throughout the day\n\n\n\nTickets are £20 per person. Show Car Drivers passes are free\, so if you have a car you want to enter into the show please apply here. You must be inside the event before 9am. Passengers will need to buy a ticket. Under 16’s free.
URL:https://www.motortrade.co.uk/event/cars-and-cuppas/
LOCATION:Winslade Park\, Manor Drive\, Clyst St Mary\, Exeter\, Devon\, EX5 1FY
END:VEVENT
BEGIN:VEVENT
DTSTART;TZID=Europe/London:20250921T100000
DTEND;TZID=Europe/London:20250921T170000
DTSTAMP:20260419T210044
CREATED:20250806T163309Z
LAST-MODIFIED:20250808T124640Z
UID:1294-1758448800-1758474000@www.motortrade.co.uk
SUMMARY:Bloomsbury Classic Car Show
DESCRIPTION:In a spectacular display honouring the sophistication and innovation of an earlier age\, Bedford Square will come to life on September 21\, 2025. \n\n\n\nThere will be a hundred classic cars on display on the bonded gravel area surrounding the square\, in addition to a carefully chosen collection of vintage and classic cars on display inside the private gardens. \n\n\n\nIn the private garden\, encircled by breathtaking vintage and classic cars\, hotel operator Red Carnation will provide picnic afternoon teas with full bar service. \n\n\n\nWith live music\, delicious food\, and beautiful cars\, Bloomsbury Classic Car Show is set to be a memorable experience for the whole family. \n\n\n\nSave the date for an unforgettable family outing by reserving your spot with us.
URL:https://www.motortrade.co.uk/event/bloomsbury-classic-car-show/
LOCATION:Bedford Square\, London\, London\, WC1B 3HH
CATEGORIES:Classic Cars
END:VEVENT
BEGIN:VEVENT
DTSTART;TZID=Europe/London:20250921T100000
DTEND;TZID=Europe/London:20250921T170000
DTSTAMP:20260419T210044
CREATED:20250815T145248Z
LAST-MODIFIED:20250815T145249Z
UID:1376-1758448800-1758474000@www.motortrade.co.uk
SUMMARY:Simply BMW
DESCRIPTION:BMW owners are invited to drive into Beaulieu and park up within the museum parkland for a superb day out for enthusiasts. \n\n\n\nDon’t own a BMW? You can still come and enjoy this event as a visitor. Purchase tickets in advance or on the day from Visitor Reception. Entry for visitors is from 10am via Visitor Reception. \n\n\n\nCome and be a part of our celebration as the BMW 3 Series turns 50! We would like to extend an invitation to all Series 3 owners to participate in this display honouring the evolution of this legendary vehicle. From the first-generation E21 all the way up to the performance-focused M3\, we’ll gladly accommodate any BMW 3 Series. \n\n\n\nYour entry will include admission to all the Beaulieu attractions including; The National Motor Museum\, Little Beaulieu\, Palace House\, Beaulieu Abbey and more.
URL:https://www.motortrade.co.uk/event/simply-bmw/
LOCATION:National Motor Museum\, Beaulieu\, New Forest\,\, Hampshire\, SO42 7ZN
ATTACH;FMTTYPE=image/webp:https://www.motortrade.co.uk/wp-content/uploads/2025/08/bmw.webp
END:VEVENT
END:VCALENDAR