BEGIN:VCALENDAR
VERSION:2.0
PRODID:-//Motor Trade - ECPv6.15.11//NONSGML v1.0//EN
CALSCALE:GREGORIAN
METHOD:PUBLISH
X-WR-CALNAME:Motor Trade
X-ORIGINAL-URL:https://www.motortrade.co.uk
X-WR-CALDESC:Events for Motor Trade
REFRESH-INTERVAL;VALUE=DURATION:PT1H
X-Robots-Tag:noindex
X-PUBLISHED-TTL:PT1H
BEGIN:VTIMEZONE
TZID:Europe/London
BEGIN:DAYLIGHT
TZOFFSETFROM:+0000
TZOFFSETTO:+0100
TZNAME:BST
DTSTART:20240331T010000
END:DAYLIGHT
BEGIN:STANDARD
TZOFFSETFROM:+0100
TZOFFSETTO:+0000
TZNAME:GMT
DTSTART:20241027T010000
END:STANDARD
BEGIN:DAYLIGHT
TZOFFSETFROM:+0000
TZOFFSETTO:+0100
TZNAME:BST
DTSTART:20250330T010000
END:DAYLIGHT
BEGIN:STANDARD
TZOFFSETFROM:+0100
TZOFFSETTO:+0000
TZNAME:GMT
DTSTART:20251026T010000
END:STANDARD
BEGIN:DAYLIGHT
TZOFFSETFROM:+0000
TZOFFSETTO:+0100
TZNAME:BST
DTSTART:20260329T010000
END:DAYLIGHT
BEGIN:STANDARD
TZOFFSETFROM:+0100
TZOFFSETTO:+0000
TZNAME:GMT
DTSTART:20261025T010000
END:STANDARD
END:VTIMEZONE
BEGIN:VEVENT
DTSTART;TZID=Europe/London:20250926T090000
DTEND;TZID=Europe/London:20250926T160000
DTSTAMP:20260418T205019
CREATED:20250808T125523Z
LAST-MODIFIED:20250808T125524Z
UID:1315-1758877200-1758902400@www.motortrade.co.uk
SUMMARY:Croft Car Track Day
DESCRIPTION:With this private track day\, inexperienced drivers won’t have to worry about sharing the track with race-ready cars or seasoned pros. This is a great chance to gain self-assurance in a welcoming setting\, and it’s open to both vintage and contemporary vehicles. \n\n\n\nHave you been on a car track day and felt overwhelmed by all the fast cars and race cars around you? \n\n\n\nWe understand some track days can be daunting with very experienced drivers and race prepared cars on the track at the same time\, so in 2025 we are introducing a Novice Driver Only Car Track Day. \n\n\n\nCroft’s track days will operate with only two groups with a maximum of 15 cars in each group on the 2.12 mile track. There will be 6 x 20 minute sessions for each group throughout the day. The track day is open to Classic and Modern Cars but is NOT available to race prepared cars or experienced track day drivers. \n\n\n\nARDS qualified instructors will be on hand to assist during the day. \n\n\n\nA Brief description on how the day will operate*: \n\n\n\n\n9.00am – Arrival\, Registration\, Safety Briefing\n\n\n\n9.45am – Pace Laps\n\n\n\n10.00am – Start of the first 20 minute session.\n\n\n\nLunch – 12.30pm – 1.30pm\n\n\n\nEnd of day – 4.00pm\n\n\n\n\n*Timings subject to change.
URL:https://www.motortrade.co.uk/event/croft-car-track-day/
LOCATION:Croft Circuit\, West Lane\, Dalton On Tees\, North Yorkshire\, DL2 2PL
ATTACH;FMTTYPE=image/png:https://www.motortrade.co.uk/wp-content/uploads/2025/08/croft-logo.png
END:VEVENT
END:VCALENDAR