BEGIN:VCALENDAR
VERSION:2.0
PRODID:-//Motor Trade - ECPv6.15.11//NONSGML v1.0//EN
CALSCALE:GREGORIAN
METHOD:PUBLISH
X-WR-CALNAME:Motor Trade
X-ORIGINAL-URL:https://www.motortrade.co.uk
X-WR-CALDESC:Events for Motor Trade
REFRESH-INTERVAL;VALUE=DURATION:PT1H
X-Robots-Tag:noindex
X-PUBLISHED-TTL:PT1H
BEGIN:VTIMEZONE
TZID:Europe/London
BEGIN:DAYLIGHT
TZOFFSETFROM:+0000
TZOFFSETTO:+0100
TZNAME:BST
DTSTART:20240331T010000
END:DAYLIGHT
BEGIN:STANDARD
TZOFFSETFROM:+0100
TZOFFSETTO:+0000
TZNAME:GMT
DTSTART:20241027T010000
END:STANDARD
BEGIN:DAYLIGHT
TZOFFSETFROM:+0000
TZOFFSETTO:+0100
TZNAME:BST
DTSTART:20250330T010000
END:DAYLIGHT
BEGIN:STANDARD
TZOFFSETFROM:+0100
TZOFFSETTO:+0000
TZNAME:GMT
DTSTART:20251026T010000
END:STANDARD
BEGIN:DAYLIGHT
TZOFFSETFROM:+0000
TZOFFSETTO:+0100
TZNAME:BST
DTSTART:20260329T010000
END:DAYLIGHT
BEGIN:STANDARD
TZOFFSETFROM:+0100
TZOFFSETTO:+0000
TZNAME:GMT
DTSTART:20261025T010000
END:STANDARD
END:VTIMEZONE
BEGIN:VEVENT
DTSTART;TZID=Europe/London:20251005T090000
DTEND;TZID=Europe/London:20251005T140000
DTSTAMP:20260414T005829
CREATED:20250813T161317Z
LAST-MODIFIED:20250816T102948Z
UID:1352-1759654800-1759672800@www.motortrade.co.uk
SUMMARY:October Scramble
DESCRIPTION:Join us for the summer Sunday Scramble of the year\, an opportunity to meet our Specialists and enjoy the workshops and showrooms open to all\, The Bicester Heritage ‘Technical Site’ will contain a curated collection of display cars set by the Bicester Motion specialist businesses.The final Scramble of 2025 offers one more chance to jump in your classic and join thousands more enthusiasts at the unique location that is Bicester Heritage.
URL:https://www.motortrade.co.uk/event/october-scramble/
LOCATION:Bicester Motion\, Buckingham Road\, Bicester\, Oxfordshire\, OX27 8AL
CATEGORIES:Race Events
END:VEVENT
BEGIN:VEVENT
DTSTART;TZID=Europe/London:20251005T100000
DTEND;TZID=Europe/London:20251005T170000
DTSTAMP:20260414T005829
CREATED:20250813T161317Z
LAST-MODIFIED:20250814T160027Z
UID:1353-1759658400-1759683600@www.motortrade.co.uk
SUMMARY:Amberley Autumn Gathering
DESCRIPTION:Our grand end of season event\, with the opportunity to see all sorts of vehicles from commercial\, transport and vintage cars. \n\n\n\nThis event has taken place since 1978 and celebrates the Museum\, its collections and volunteers. It is one of the highlights of the year and offers visitors the opportunity to see and find out more about a wide range of vehicles\, against the unique backdrop of Amberley Museum.
URL:https://www.motortrade.co.uk/event/amberley-autumn-gathering/
LOCATION:Amberley Museum\, New Barn Road\, Amberley\, Near Arundel\, West Sussex\, BN18 9LT
ATTACH;FMTTYPE=image/webp:https://www.motortrade.co.uk/wp-content/uploads/2025/08/Amberley-Museum-Logo-2023-Grey.png-scaled.webp
END:VEVENT
END:VCALENDAR