BEGIN:VCALENDAR
VERSION:2.0
PRODID:-//Motor Trade - ECPv6.15.11//NONSGML v1.0//EN
CALSCALE:GREGORIAN
METHOD:PUBLISH
X-ORIGINAL-URL:https://www.motortrade.co.uk
X-WR-CALDESC:Events for Motor Trade
REFRESH-INTERVAL;VALUE=DURATION:PT1H
X-Robots-Tag:noindex
X-PUBLISHED-TTL:PT1H
BEGIN:VTIMEZONE
TZID:Europe/London
BEGIN:DAYLIGHT
TZOFFSETFROM:+0000
TZOFFSETTO:+0100
TZNAME:BST
DTSTART:20240331T010000
END:DAYLIGHT
BEGIN:STANDARD
TZOFFSETFROM:+0100
TZOFFSETTO:+0000
TZNAME:GMT
DTSTART:20241027T010000
END:STANDARD
BEGIN:DAYLIGHT
TZOFFSETFROM:+0000
TZOFFSETTO:+0100
TZNAME:BST
DTSTART:20250330T010000
END:DAYLIGHT
BEGIN:STANDARD
TZOFFSETFROM:+0100
TZOFFSETTO:+0000
TZNAME:GMT
DTSTART:20251026T010000
END:STANDARD
BEGIN:DAYLIGHT
TZOFFSETFROM:+0000
TZOFFSETTO:+0100
TZNAME:BST
DTSTART:20260329T010000
END:DAYLIGHT
BEGIN:STANDARD
TZOFFSETFROM:+0100
TZOFFSETTO:+0000
TZNAME:GMT
DTSTART:20261025T010000
END:STANDARD
END:VTIMEZONE
BEGIN:VEVENT
DTSTART;TZID=Europe/London:20251023T090000
DTEND;TZID=Europe/London:20251023T150000
DTSTAMP:20260419T193458
CREATED:20250530T152556Z
LAST-MODIFIED:20250613T104514Z
UID:395-1761210000-1761231600@www.motortrade.co.uk
SUMMARY:Skills for Future Automotive Professionals
DESCRIPTION:Come along to the British Motor Museum for a fantastic event that’s a must for innovative minds in the UK automotive industry! \n\n\n\nWe’re excited to tackle the key challenges and opportunities in the sector through seminars and panel sessions featuring industry leaders and respected strategic thinkers who are eager to answer your questions. \n\n\n\nWe’ve organised a wonderful day to provide you with a detailed look at the skills that future automotive professionals will need. Covering everything from electrification and autonomous vehicles to connected vehicles\, along with recruitment and new job opportunities\, plus the chance to hear from and ask questions to a CEO. There’s truly something for everyone! \n\n\n\nWe’re excited to have the amazing racing driver Nic Hamilton as our keynote speaker! His personal journey of focus and determination is sure to inspire anyone facing an uncertain future.
URL:https://www.motortrade.co.uk/event/skills-for-future-automotive-professionals/
LOCATION:British Motor Museum\, Banbury Road Gaydon\, Lighthorne Heath\, Warwick\, CV35 0BJ\, United Kingdom
CATEGORIES:Motor Trade
ATTACH;FMTTYPE=image/jpeg:https://www.motortrade.co.uk/wp-content/uploads/2025/05/car-7322212_1280.jpg
END:VEVENT
END:VCALENDAR