BEGIN:VCALENDAR
VERSION:2.0
PRODID:-//Motor Trade - ECPv6.15.11//NONSGML v1.0//EN
CALSCALE:GREGORIAN
METHOD:PUBLISH
X-WR-CALNAME:Motor Trade
X-ORIGINAL-URL:https://www.motortrade.co.uk
X-WR-CALDESC:Events for Motor Trade
REFRESH-INTERVAL;VALUE=DURATION:PT1H
X-Robots-Tag:noindex
X-PUBLISHED-TTL:PT1H
BEGIN:VTIMEZONE
TZID:Europe/London
BEGIN:DAYLIGHT
TZOFFSETFROM:+0000
TZOFFSETTO:+0100
TZNAME:BST
DTSTART:20240331T010000
END:DAYLIGHT
BEGIN:STANDARD
TZOFFSETFROM:+0100
TZOFFSETTO:+0000
TZNAME:GMT
DTSTART:20241027T010000
END:STANDARD
BEGIN:DAYLIGHT
TZOFFSETFROM:+0000
TZOFFSETTO:+0100
TZNAME:BST
DTSTART:20250330T010000
END:DAYLIGHT
BEGIN:STANDARD
TZOFFSETFROM:+0100
TZOFFSETTO:+0000
TZNAME:GMT
DTSTART:20251026T010000
END:STANDARD
BEGIN:DAYLIGHT
TZOFFSETFROM:+0000
TZOFFSETTO:+0100
TZNAME:BST
DTSTART:20260329T010000
END:DAYLIGHT
BEGIN:STANDARD
TZOFFSETFROM:+0100
TZOFFSETTO:+0000
TZNAME:GMT
DTSTART:20261025T010000
END:STANDARD
END:VTIMEZONE
BEGIN:VEVENT
DTSTART;TZID=Europe/London:20251107T080000
DTEND;TZID=Europe/London:20251109T170000
DTSTAMP:20260418T205209
CREATED:20250703T153608Z
LAST-MODIFIED:20250714T182413Z
UID:848-1762502400-1762707600@www.motortrade.co.uk
SUMMARY:Brazilian Grand Prix
DESCRIPTION:
URL:https://www.motortrade.co.uk/event/brazilian-grand-priz/
CATEGORIES:Race Events
ATTACH;FMTTYPE=image/webp:https://www.motortrade.co.uk/wp-content/uploads/2025/06/f1-grand-prix.webp
END:VEVENT
BEGIN:VEVENT
DTSTART;TZID=Europe/London:20251107T100000
DTEND;TZID=Europe/London:20251109T180000
DTSTAMP:20260418T205209
CREATED:20250531T184958Z
LAST-MODIFIED:20250613T104501Z
UID:416-1762509600-1762711200@www.motortrade.co.uk
SUMMARY:The Classic Motor Show
DESCRIPTION:Amazing collection of more than 3000 classic cars. there are 338 automobile clubs. More than four hundred and thirty-three vendors. The inventory includes almost 600 vehicles. A fantastic weekend. Having celebrated its 40th anniversary last year\, the Lancaster Insurance Classic Motor Show is getting up for an even greater celebration in 2025\, which will take place at Birmingham’s NEC from November 7-9. \n\n\n\nCome and see the largest indoor autojumble in the UK\, the Meguiar’s Club Showcase\, where you can vote for the best vehicle\, Pride of Ownership\, and the Restoration Workshop\, where you can get your hands dirty. Experience the thrill of Iconic Auctioneers firsthand as you mingle with famous faces and industry insiders\, and see four automotive icons inducted into our esteemed Hall of Fame.
URL:https://www.motortrade.co.uk/event/the-classic-motor-show/
LOCATION:NEC\, Marston Green\, Birmingham\, B40 1NT
CATEGORIES:Classic Cars
ATTACH;FMTTYPE=image/png:https://www.motortrade.co.uk/wp-content/uploads/2025/05/Screenshot-2025-05-31-at-19.49.07.png
END:VEVENT
END:VCALENDAR