BEGIN:VCALENDAR
VERSION:2.0
PRODID:-//Motor Trade - ECPv6.15.11//NONSGML v1.0//EN
CALSCALE:GREGORIAN
METHOD:PUBLISH
X-ORIGINAL-URL:https://www.motortrade.co.uk
X-WR-CALDESC:Events for Motor Trade
REFRESH-INTERVAL;VALUE=DURATION:PT1H
X-Robots-Tag:noindex
X-PUBLISHED-TTL:PT1H
BEGIN:VTIMEZONE
TZID:Europe/London
BEGIN:DAYLIGHT
TZOFFSETFROM:+0000
TZOFFSETTO:+0100
TZNAME:BST
DTSTART:20240331T010000
END:DAYLIGHT
BEGIN:STANDARD
TZOFFSETFROM:+0100
TZOFFSETTO:+0000
TZNAME:GMT
DTSTART:20241027T010000
END:STANDARD
BEGIN:DAYLIGHT
TZOFFSETFROM:+0000
TZOFFSETTO:+0100
TZNAME:BST
DTSTART:20250330T010000
END:DAYLIGHT
BEGIN:STANDARD
TZOFFSETFROM:+0100
TZOFFSETTO:+0000
TZNAME:GMT
DTSTART:20251026T010000
END:STANDARD
BEGIN:DAYLIGHT
TZOFFSETFROM:+0000
TZOFFSETTO:+0100
TZNAME:BST
DTSTART:20260329T010000
END:DAYLIGHT
BEGIN:STANDARD
TZOFFSETFROM:+0100
TZOFFSETTO:+0000
TZNAME:GMT
DTSTART:20261025T010000
END:STANDARD
END:VTIMEZONE
BEGIN:VEVENT
DTSTART;TZID=Europe/London:20251112T090000
DTEND;TZID=Europe/London:20251113T170000
DTSTAMP:20260419T175957
CREATED:20250530T143358Z
LAST-MODIFIED:20250818T162853Z
UID:384-1762938000-1763053200@www.motortrade.co.uk
SUMMARY:London EV Show
DESCRIPTION:The 5th Edition of the London EV Show \n\n\n\nJoin us at the 5th edition of the London EV Show\, the ultimate destination where innovation meets mobility. Taking place at Excel London\, this event is a global platform bringing together industry leaders\, policymakers\, and pioneers driving the future of sustainable transportation. \n\n\n\nMore than 10\,000 people\, including OEMs\, service providers\, policymakers\, thought leaders\, and other important stakeholders\, will come together this year to see\, talk about\, and learn about the future of electric mobility. The show will have a mix of new ideas and business opportunities because it is a global platform for more than 3\,500 companies from all over the world.  \n\n\n\nWith more than 120 partners from different industries\, the event also shows the spirit of cooperation that is needed to make the switch to electric mobility happen around the world. \n\n\n\nAttendees will immerse themselves in the latest EV breakthroughs: next-gen electric vehicles\, cutting-edge charging infrastructure\, advanced battery systems\, and intelligent mobility solutions. Interactive live demos\, dynamic test-drive zones\, and hands-on showcases elevate the experience beyond a traditional tradeshow floor. \n\n\n\nAdded highlights include a Buyer Programme designed to foster business matches\, the London EV Show Awards celebrating excellence\, and an exciting start-up pitch platform spotlighting emerging innovators. \n\n\n\nDon’t miss your chance to plug into the future. Register now to secure your place at the intersection of innovation\, policy\, and commerce in the EV sector.
URL:https://www.motortrade.co.uk/event/london-ev-show/
LOCATION:Excel London\, 1 Western Gateway\, London\, E16 1XL\, United Kingdom
CATEGORIES:Electric Vehicles,Motor Trade
ATTACH;FMTTYPE=image/webp:https://www.motortrade.co.uk/wp-content/uploads/2025/05/electric-vehicle-charging.webp
END:VEVENT
END:VCALENDAR