BEGIN:VCALENDAR
VERSION:2.0
PRODID:-//Motor Trade - ECPv6.15.11//NONSGML v1.0//EN
CALSCALE:GREGORIAN
METHOD:PUBLISH
X-ORIGINAL-URL:https://www.motortrade.co.uk
X-WR-CALDESC:Events for Motor Trade
REFRESH-INTERVAL;VALUE=DURATION:PT1H
X-Robots-Tag:noindex
X-PUBLISHED-TTL:PT1H
BEGIN:VTIMEZONE
TZID:Europe/London
BEGIN:DAYLIGHT
TZOFFSETFROM:+0000
TZOFFSETTO:+0100
TZNAME:BST
DTSTART:20240331T010000
END:DAYLIGHT
BEGIN:STANDARD
TZOFFSETFROM:+0100
TZOFFSETTO:+0000
TZNAME:GMT
DTSTART:20241027T010000
END:STANDARD
BEGIN:DAYLIGHT
TZOFFSETFROM:+0000
TZOFFSETTO:+0100
TZNAME:BST
DTSTART:20250330T010000
END:DAYLIGHT
BEGIN:STANDARD
TZOFFSETFROM:+0100
TZOFFSETTO:+0000
TZNAME:GMT
DTSTART:20251026T010000
END:STANDARD
BEGIN:DAYLIGHT
TZOFFSETFROM:+0000
TZOFFSETTO:+0100
TZNAME:BST
DTSTART:20260329T010000
END:DAYLIGHT
BEGIN:STANDARD
TZOFFSETFROM:+0100
TZOFFSETTO:+0000
TZNAME:GMT
DTSTART:20261025T010000
END:STANDARD
END:VTIMEZONE
BEGIN:VEVENT
DTSTART;TZID=Europe/London:20251130T083000
DTEND;TZID=Europe/London:20251130T110000
DTSTAMP:20260419T173507
CREATED:20250815T150929Z
LAST-MODIFIED:20250815T150930Z
UID:1382-1764491400-1764500400@www.motortrade.co.uk
SUMMARY:New Forest VW Santa Run
DESCRIPTION:The New Forest VW Santa Run is back in Beaulieu for its 12th year on Sunday\, November 30th\, 2025! This fun event will help raise funds for the Piam Brown unit at Southampton General Hospital. \n\n\n\nEveryone is welcome to join the fun with their classic and custom VWs at the Santa Run! Whether you have a split-screen\, Beetle\, buggy\, Golf\, Caddy\, T4\, or T5\, we’d love to see you there! \n\n\n\nThis cheerful collection of vehicles\, decorated with festive flair\, will leave Beaulieu at 11am\, before delivering their gifts at Southampton General Hospital. \n\n\n\nLots of vehicles and participants get into the Christmas spirit with fun costumes for themselves\, their VWs\, and sometimes even their dogs\, making this a wonderful chance to kick off the festive season. \n\n\n\nNOTE:All participants wishing to take part in the VW Santa Run must pre-apply through the Santa Run Facebook page. Places are limited so register your interest a soon as it opens. \n\n\n\nVISITING THE VW SANTA RUN:If you are wishing to arrive on foot as a visitor to see the vehicles before they depart at 11am\, you can purchase visitor tickets which will be available soon. \n\n\n\nEntry with visitor tickets is from 10am and all vehicles will be off-site by 11.30am.
URL:https://www.motortrade.co.uk/event/new-forest-vw-santa-run/
LOCATION:National Motor Museum\, Beaulieu\, New Forest\,\, Hampshire\, SO42 7ZN
ATTACH;FMTTYPE=image/webp:https://www.motortrade.co.uk/wp-content/uploads/2025/08/vw.webp
END:VEVENT
END:VCALENDAR