BEGIN:VCALENDAR
VERSION:2.0
PRODID:-//Motor Trade - ECPv6.15.11//NONSGML v1.0//EN
CALSCALE:GREGORIAN
METHOD:PUBLISH
X-WR-CALNAME:Motor Trade
X-ORIGINAL-URL:https://www.motortrade.co.uk
X-WR-CALDESC:Events for Motor Trade
REFRESH-INTERVAL;VALUE=DURATION:PT1H
X-Robots-Tag:noindex
X-PUBLISHED-TTL:PT1H
BEGIN:VTIMEZONE
TZID:Europe/London
BEGIN:DAYLIGHT
TZOFFSETFROM:+0000
TZOFFSETTO:+0100
TZNAME:BST
DTSTART:20240331T010000
END:DAYLIGHT
BEGIN:STANDARD
TZOFFSETFROM:+0100
TZOFFSETTO:+0000
TZNAME:GMT
DTSTART:20241027T010000
END:STANDARD
BEGIN:DAYLIGHT
TZOFFSETFROM:+0000
TZOFFSETTO:+0100
TZNAME:BST
DTSTART:20250330T010000
END:DAYLIGHT
BEGIN:STANDARD
TZOFFSETFROM:+0100
TZOFFSETTO:+0000
TZNAME:GMT
DTSTART:20251026T010000
END:STANDARD
BEGIN:DAYLIGHT
TZOFFSETFROM:+0000
TZOFFSETTO:+0100
TZNAME:BST
DTSTART:20260329T010000
END:DAYLIGHT
BEGIN:STANDARD
TZOFFSETFROM:+0100
TZOFFSETTO:+0000
TZNAME:GMT
DTSTART:20261025T010000
END:STANDARD
BEGIN:DAYLIGHT
TZOFFSETFROM:+0000
TZOFFSETTO:+0100
TZNAME:BST
DTSTART:20270328T010000
END:DAYLIGHT
BEGIN:STANDARD
TZOFFSETFROM:+0100
TZOFFSETTO:+0000
TZNAME:GMT
DTSTART:20271031T010000
END:STANDARD
END:VTIMEZONE
BEGIN:VEVENT
DTSTART;TZID=Europe/London:20251130T083000
DTEND;TZID=Europe/London:20251130T110000
DTSTAMP:20260415T223559
CREATED:20250815T150929Z
LAST-MODIFIED:20250815T150930Z
UID:1382-1764491400-1764500400@www.motortrade.co.uk
SUMMARY:New Forest VW Santa Run
DESCRIPTION:The New Forest VW Santa Run is back in Beaulieu for its 12th year on Sunday\, November 30th\, 2025! This fun event will help raise funds for the Piam Brown unit at Southampton General Hospital. \n\n\n\nEveryone is welcome to join the fun with their classic and custom VWs at the Santa Run! Whether you have a split-screen\, Beetle\, buggy\, Golf\, Caddy\, T4\, or T5\, we’d love to see you there! \n\n\n\nThis cheerful collection of vehicles\, decorated with festive flair\, will leave Beaulieu at 11am\, before delivering their gifts at Southampton General Hospital. \n\n\n\nLots of vehicles and participants get into the Christmas spirit with fun costumes for themselves\, their VWs\, and sometimes even their dogs\, making this a wonderful chance to kick off the festive season. \n\n\n\nNOTE:All participants wishing to take part in the VW Santa Run must pre-apply through the Santa Run Facebook page. Places are limited so register your interest a soon as it opens. \n\n\n\nVISITING THE VW SANTA RUN:If you are wishing to arrive on foot as a visitor to see the vehicles before they depart at 11am\, you can purchase visitor tickets which will be available soon. \n\n\n\nEntry with visitor tickets is from 10am and all vehicles will be off-site by 11.30am.
URL:https://www.motortrade.co.uk/event/new-forest-vw-santa-run/
LOCATION:National Motor Museum\, Beaulieu\, New Forest\,\, Hampshire\, SO42 7ZN
ATTACH;FMTTYPE=image/webp:https://www.motortrade.co.uk/wp-content/uploads/2025/08/vw.webp
END:VEVENT
BEGIN:VEVENT
DTSTART;TZID=Europe/London:20251207T090000
DTEND;TZID=Europe/London:20251207T170000
DTSTAMP:20260415T223559
CREATED:20250808T125819Z
LAST-MODIFIED:20250808T125918Z
UID:1316-1765098000-1765126800@www.motortrade.co.uk
SUMMARY:Jack Frost Rally
DESCRIPTION:Croft Circuit ends the 2025 racing season with the Jack Frost Rally on 7 December 2025.
URL:https://www.motortrade.co.uk/event/jack-frost-rally/
LOCATION:Croft Circuit\, West Lane\, Dalton On Tees\, North Yorkshire\, DL2 2PL
CATEGORIES:Race Events
ATTACH;FMTTYPE=image/png:https://www.motortrade.co.uk/wp-content/uploads/2025/08/croft-logo.png
END:VEVENT
BEGIN:VEVENT
DTSTART;TZID=Europe/London:20260731T100000
DTEND;TZID=Europe/London:20260802T170000
DTSTAMP:20260415T223559
CREATED:20250922T143821Z
LAST-MODIFIED:20250922T150454Z
UID:1709-1785492000-1785690000@www.motortrade.co.uk
SUMMARY:USC 2026 – Europe’s Most Extreme Modified Car Festival Hits Santa Pod
DESCRIPTION:Get ready\, car lovers! From Friday 31st July to Sunday 2nd August 2026\, USC – Ultimate Street Car is returning to Santa Pod Raceway\, bringing with it the biggest\, loudest\, most heart-pounding weekend the UK modified car scene has ever seen. \n\n\n\nWhat’s On\n\n\n\nExpect a full throttle line-up: \n\n\n\n\nRun What Ya Brung sessions where you can take your own car down the drag strip with timing data — thrill and performance in your hands.\n\n\n\nJaw-dropping Track & Drag Racing battles\, from Sports Compact Shootouts to the insane X58 class.\n\n\n\nThe thunderous Jet Car run\, burning rubber and blasting noise like nothing else. \n\n\n\nShow & Shine\, Live Action Arena\, Drifting\, Stunts\, the massive Burn-Out competitions — plus the unforgettable “Flameout” fire shows\n\n\n\n\nMore than Just Cars\n\n\n\nUSC is far more than just engines and exhausts: \n\n\n\n\nFour music zones: Main Stage\, Dance Tent\, Fuelers Bar\, Ultimate Street Bar — DJs\, MCs\, light shows\, and party til late. (Evening music requires a weekend ticket.)\n\n\n\nClub camping for groups\, free Thursday arrival for club campers to beat the queues\, full festival vibe across the weekend.\n\n\n\nA Trade Village packed with car parts\, accessories\, fashion and merch\, and even a Cars-4-Sale paddock so you can buy\, sell or just drool over some beauties. \n\n\n\nFood\, drink\, fairground rides\, pamper pods\, DJs\, dancers – plenty of entertainment for every taste.\n\n\n\n\nWhy You Should Be There\n\n\n\n\nIt’s Europe’s biggest modified car festival — if you’re interested in tuning\, performance\, styling\, or just the pure spectacle\, this is the event not to miss.\n\n\n\nWhether you’re a weekend enthusiast\, a car club\, or a professional in the trade\, USC 2026 offers networking\, exposure\, and plenty of chances to see innovation\, DIY creativity\, and automotive excellence.\n\n\n\nAnd for traders and businesses\, the footfall is massive — with thousands of enthusiasts\, potential customers and peers all under one roof. Perfect for showcasing products\, merch\, services.\n\n\n\n\nTickets & Entry Info\n\n\n\nWeekend tickets are required\, as are separate racing vouchers for some events like Run What Ya Brung. Booking early is wise — parts of the event sell out quickly. Visit ultimatestreetcar.co.uk for full details\, ticket info\, and vehicle registration. USC 2026 is where the street scene meets the strip—don’t miss your chance to be part of it.
URL:https://www.motortrade.co.uk/event/usc-car-show/
LOCATION:Santa Pod Raceway\, Airfield Road\, Podington\, Wellingborough\, NN29 7XA
ATTACH;FMTTYPE=image/jpeg:https://www.motortrade.co.uk/wp-content/uploads/2025/09/USC2026.jpg
END:VEVENT
END:VCALENDAR